{"text_format":"1","workbook":"xlsx","n_sheets":4,"sheets":["はじめに","ガスのご利用開始申込書","【重要事項説明書】なっトクプラン","【重要事項説明書】なっトクプランＯ"],"not_rendered":{"charts":0,"images":0,"macros":1,"external_links":0,"defined_names":2,"comments":1,"pivot_tables":0},"unopened":[],"bounds":{"document_bytes":16777216,"sheet_cells":100000,"rows_first":2000,"rows_last":500,"rows_between":2000,"halvings":0,"cell_chars":16384,"cell_head_chars":4096},"cells_cut":0,"cells_raw":0,"read":"whole","date_system":"1900"}

{"sheet":"はじめに","index":0,"n_rows":2,"n_cols":2,"rows_kept":2,"cut":false,"hidden":false,"merged":[[1,1,15,9]]}
[]
[null,"当ファイルを利用するには　マクロを有効にする必要がございます。\n\nファイルを開いた際に表示される『コンテンツの有効化』をクリックしてから、\n\n「ガスのご利用開始申込書」シートへ移動して頂きますようお願いいたします。\n"]

{"sheet":"ガスのご利用開始申込書","index":1,"n_rows":46,"n_cols":23,"rows_kept":46,"cut":false,"hidden":false,"merged":[[23,1,24,1],[23,2,24,2],[23,3,24,3],[23,4,23,8],[8,1,8,10],[9,1,9,10],[17,1,18,2],[17,3,18,3],[19,1,20,2],[19,3,20,3],[11,1,11,10],[13,1,16,2],[13,3,14,3],[13,4,14,6],[15,3,16,3],[15,4,16,6],[15,7,16,10],[23,22,24,22],[24,5,24,6],[23,14,24,14],[23,15,24,15],[23,16,24,16],[23,17,24,17],[23,10,24,10],[23,12,24,12],[23,13,24,13],[23,11,24,11],[23,9,24,9],[26,5,26,6],[27,5,27,6],[23,18,24,18],[23,19,23,20],[23,21,24,21],[25,5,25,6],[32,5,32,6],[33,5,33,6],[30,5,30,6],[31,5,31,6],[28,5,28,6],[29,5,29,6],[38,5,38,6],[39,5,39,6],[36,5,36,6],[37,5,37,6],[34,5,34,6],[35,5,35,6],[44,5,44,6],[45,5,45,6],[42,5,42,6],[43,5,43,6],[40,5,40,6],[41,5,41,6]]}
[]
[null,"必要事項をご入力のうえ、メール（kandengas.kaiheisen@a2.kepco.co.jp）で送信してください。"]
[null,"【お申込みに関する注意事項】"]
[null,"○上記のメールのみでの受付となります。"]
[null,"○必須入力項目が空欄となっている場合には、受付できかねますので、漏れなく記入してください。"]
[null,"○ご契約種別は、お客さまにてご選択ください。"]
[null,"○お申込みいただいた内容について、確認のためにご連絡を差し上げる場合がございます。"]
[null,"○平日の営業時間（9：00～17：00）終了後、および土日祝・年末年始にお申込みいただいた内容については、翌営業日以降に確認させていただきます。"]
[null,"○本申込書でのお申込みが可能な期間（ご利用開始日）は、お申込み日を基準に３０日前後迄です（ご利用開始日当日のお申込みは受付できません)。\n　ガスのお申込みについては、点火確認やガス漏れ検査を行いますので、お立会いが必要となります。そのため、お申込み当日または翌日の開始など、\n　お急ぎの場合はお手数ですが関西電力までお問い合わせください。 お問い合わせ先は関西電力ホームページ （https://kepco.jp/faq/otoiawase/をご確認ください。）\n　※作業員の稼働状況等により、ご指定いただいた日時に沿えない場合は、別途お申込者さまへご連絡させていただきます。\n　※ガス開栓作業時に、ガス漏れ検査や点火確認を行うため住居内に立ち入ります。\n　※ガスのご利用開始については、作業都合により毎年1月1日〜1月3日は開始日としてご指定いただけません。"]
[null,"○ご住所・お名前・電話番号などの個人情報は、当社の個人情報利用目的の範囲内で利用させていただきます。\n　(個人情報保護方針　https://www.kepco.co.jp/siteinfo/privacy/)"]
[]
[null,"ガスのご利用開始のお申込み"]
[null,"【ご確認事項：お申込者（代理人）さま】"]
[null,"お申込者さま",null,"お名前\n※必須",null,null,null,"ＴＥＬ\n※必須"]
[null,null,null,null,null,null,null,"ＦＡＸ"]
[null,null,null,"ご契約者\nとの関係\n※必須"]
[]
[null,"ご本人さまの同意\n※必須",null,"有","※ご本人さま以外がお申込みの際は、必ずご本人さまの同意（代理権）を得てお申込みください。"]
[null,null,null,null,"（ご本人さまの同意がない場合は受付できません。予めご容赦ください。）"]
[null,"定型約款の同意\n※必須",null,"有","ガスのご契約にあたっては、以下の定型約款を契約の内容とします。"]
[null,null,null,null,"　〇 なっトクプラン（大阪ガスの都市ガス供給エリア）・ なっトクプランО（大津市企業局の都市ガス供給エリア）：「ガス供給条件」および「料金表」"]
[]
[null,"【ご入力項目：ご契約者（ご本人）さま】",null,null,null,null,null,null,null,null,null,null,null,null,null,null,null,null,null,null,null,null,"Ver1.0 2023/●/●更新分"]
[null,"Ｎｏ","供給地点特定番号","契約種別\n※必須","ご契約住所",null,null,null,null,"ご利用用途\n※必須","種別\n※ご利用用途が\n「その他」の場合必須","特殊機器\n（エコウィル、エネファーム、太陽熱温水）の有無\n※必須","お客さま名義\n　(漢字)\n※必須","お客さま名義\n（フリガナ）\n※必須","電話番号","ご利用開始日\n※必須","ご利用開始時間\n※必須","お立会いされる方の\nご連絡先\n※必須","お支払方法\n※必須","郵送物の送付先\n（ご契約住所以外の場合）",null,"ご使用量のお知らせ","その他連絡事項\n（何かございましたら、ご入力ください）"]
[null,null,null,null,"郵便番号\n※必須","ご住所\n※必須",null,"建物名\n※集合住宅の場合必須","部屋番号\n※集合住宅の場合必須",null,null,null,null,null,null,null,null,null,null,"郵便番号","ご住所"]
[null,"例","12345678901234567","なっトクプラン","1234567","○○市○○町1-1-101",null,"マンションＫ","101","家庭用",null,"無","関電　太郎","ｶﾝﾃﾞﾝ ﾀﾛｳ","09012345678","2023-04-01","１５時～１７時","09012341234","2.クレジットカード支払","1234567","□□市□□町1-1　マンションＬ　1001","1.はぴeみる電"]
[null,1]
[null,2]
[null,3]
[null,4]
[null,5]
[null,6]
[null,7]
[null,8]
[null,9]
[null,10]
[null,11]
[null,12]
[null,13]
[null,14]
[null,15]
[null,16]
[null,17]
[null,18]
[null,19]
[null,20]

{"sheet":"【重要事項説明書】なっトクプラン","index":2,"n_rows":42,"n_cols":7,"rows_kept":42,"cut":false,"hidden":true,"merged":[[39,2,39,4],[40,2,40,4],[41,2,41,4],[34,2,34,4],[35,2,35,4],[36,2,36,4],[37,2,37,4],[38,2,38,4],[39,5,39,8],[40,5,40,8],[41,5,41,8],[29,5,29,8],[30,5,30,8],[31,5,31,8],[32,5,32,8],[33,5,33,8],[34,5,34,8],[35,5,35,8],[36,5,36,8],[37,5,37,8],[38,5,38,8],[29,2,29,4],[30,2,30,4],[31,2,31,4],[32,2,32,4],[33,2,33,4],[24,5,24,8],[25,5,25,8],[26,5,26,8],[27,5,27,8],[28,5,28,8],[24,2,24,4],[25,2,25,4],[26,2,26,4],[27,2,27,4],[28,2,28,4],[9,1,9,3],[16,6,16,8],[21,5,21,8],[22,5,22,8],[23,5,23,8],[21,2,21,4],[22,2,22,4],[23,2,23,4]]}
[]
[]
[]
[]
[]
[null,null,null,null,"↑ご確認後、必ずチェックを入れてください。"]
[]
[]
[null,"＜ご契約種別＞"]
[null,"なっトクプラン","はぴｅタイム","はぴｅタイム"]
[]
[]
[null,"＜お申込者（代理人）さま記入欄＞"]
[null,"「供給条件」および「料金表」、ご契約に関する重要事項説明書および個人情報の取扱いに同意し、"]
[null,"別紙「ガスのご利用開始のお申込み」のとおり、需給契約の申込みをいたします。"]
[]
[null,null,null,null,null,"氏　名　：",{"$f":"IF(ガスのご利用開始申込書!E14=\"\",\"\",ガスのご利用開始申込書!E14)","v":""}]
[]
[]
[null,"＜ご契約者（ご本人）さま）＞"]
[null,"お申込者さまより、下記のご契約者さまに対して、重要事項説明の内容をお伝えください。"]
[null,"No","供給地点特定番号",null,null,"お客さま名義"]
[null,1,{"$f":"IF(AND(ガスのご利用開始申込書!C27<>\"\",ガスのご利用開始申込書!D27=$B$10),ガスのご利用開始申込書!C27,\"\")","v":""},null,null,{"$f":"IF(ガスのご利用開始申込書!D27=$B$10,ガスのご利用開始申込書!M27,\"\")","v":""}]
[null,2,{"$f":"IF(AND(ガスのご利用開始申込書!C28<>\"\",ガスのご利用開始申込書!D28=$B$10),ガスのご利用開始申込書!C28,\"\")","v":""},null,null,{"$f":"IF(ガスのご利用開始申込書!D28=$B$10,ガスのご利用開始申込書!M28,\"\")","v":""}]
[null,3,{"$f":"IF(AND(ガスのご利用開始申込書!C29<>\"\",ガスのご利用開始申込書!D29=$B$10),ガスのご利用開始申込書!C29,\"\")","v":""},null,null,{"$f":"IF(ガスのご利用開始申込書!D29=$B$10,ガスのご利用開始申込書!M29,\"\")","v":""}]
[null,4,{"$f":"IF(AND(ガスのご利用開始申込書!C30<>\"\",ガスのご利用開始申込書!D30=$B$10),ガスのご利用開始申込書!C30,\"\")","v":""},null,null,{"$f":"IF(ガスのご利用開始申込書!D30=$B$10,ガスのご利用開始申込書!M30,\"\")","v":""}]
[null,5,{"$f":"IF(AND(ガスのご利用開始申込書!C31<>\"\",ガスのご利用開始申込書!D31=$B$10),ガスのご利用開始申込書!C31,\"\")","v":""},null,null,{"$f":"IF(ガスのご利用開始申込書!D31=$B$10,ガスのご利用開始申込書!M31,\"\")","v":""}]
[null,6,{"$f":"IF(AND(ガスのご利用開始申込書!C32<>\"\",ガスのご利用開始申込書!D32=$B$10),ガスのご利用開始申込書!C32,\"\")","v":""},null,null,{"$f":"IF(ガスのご利用開始申込書!D32=$B$10,ガスのご利用開始申込書!M32,\"\")","v":""}]
[null,7,{"$f":"IF(AND(ガスのご利用開始申込書!C33<>\"\",ガスのご利用開始申込書!D33=$B$10),ガスのご利用開始申込書!C33,\"\")","v":""},null,null,{"$f":"IF(ガスのご利用開始申込書!D33=$B$10,ガスのご利用開始申込書!M33,\"\")","v":""}]
[null,8,{"$f":"IF(AND(ガスのご利用開始申込書!C34<>\"\",ガスのご利用開始申込書!D34=$B$10),ガスのご利用開始申込書!C34,\"\")","v":""},null,null,{"$f":"IF(ガスのご利用開始申込書!D34=$B$10,ガスのご利用開始申込書!M34,\"\")","v":""}]
[null,9,{"$f":"IF(AND(ガスのご利用開始申込書!C35<>\"\",ガスのご利用開始申込書!D35=$B$10),ガスのご利用開始申込書!C35,\"\")","v":""},null,null,{"$f":"IF(ガスのご利用開始申込書!D35=$B$10,ガスのご利用開始申込書!M35,\"\")","v":""}]
[null,10,{"$f":"IF(AND(ガスのご利用開始申込書!C36<>\"\",ガスのご利用開始申込書!D36=$B$10),ガスのご利用開始申込書!C36,\"\")","v":""},null,null,{"$f":"IF(ガスのご利用開始申込書!D36=$B$10,ガスのご利用開始申込書!M36,\"\")","v":""}]
[null,11,{"$f":"IF(AND(ガスのご利用開始申込書!C37<>\"\",ガスのご利用開始申込書!D37=$B$10),ガスのご利用開始申込書!C37,\"\")","v":""},null,null,{"$f":"IF(ガスのご利用開始申込書!D37=$B$10,ガスのご利用開始申込書!M37,\"\")","v":""}]
[null,12,{"$f":"IF(AND(ガスのご利用開始申込書!C38<>\"\",ガスのご利用開始申込書!D38=$B$10),ガスのご利用開始申込書!C38,\"\")","v":""},null,null,{"$f":"IF(ガスのご利用開始申込書!D38=$B$10,ガスのご利用開始申込書!M38,\"\")","v":""}]
[null,13,{"$f":"IF(AND(ガスのご利用開始申込書!C39<>\"\",ガスのご利用開始申込書!D39=$B$10),ガスのご利用開始申込書!C39,\"\")","v":""},null,null,{"$f":"IF(ガスのご利用開始申込書!D39=$B$10,ガスのご利用開始申込書!M39,\"\")","v":""}]
[null,14,{"$f":"IF(AND(ガスのご利用開始申込書!C40<>\"\",ガスのご利用開始申込書!D40=$B$10),ガスのご利用開始申込書!C40,\"\")","v":""},null,null,{"$f":"IF(ガスのご利用開始申込書!D40=$B$10,ガスのご利用開始申込書!M40,\"\")","v":""}]
[null,15,{"$f":"IF(AND(ガスのご利用開始申込書!C41<>\"\",ガスのご利用開始申込書!D41=$B$10),ガスのご利用開始申込書!C41,\"\")","v":""},null,null,{"$f":"IF(ガスのご利用開始申込書!D41=$B$10,ガスのご利用開始申込書!M41,\"\")","v":""}]
[null,16,{"$f":"IF(AND(ガスのご利用開始申込書!C42<>\"\",ガスのご利用開始申込書!D42=$B$10),ガスのご利用開始申込書!C42,\"\")","v":""},null,null,{"$f":"IF(ガスのご利用開始申込書!D42=$B$10,ガスのご利用開始申込書!M42,\"\")","v":""}]
[null,17,{"$f":"IF(AND(ガスのご利用開始申込書!C43<>\"\",ガスのご利用開始申込書!D43=$B$10),ガスのご利用開始申込書!C43,\"\")","v":""},null,null,{"$f":"IF(ガスのご利用開始申込書!D43=$B$10,ガスのご利用開始申込書!M43,\"\")","v":""}]
[null,18,{"$f":"IF(AND(ガスのご利用開始申込書!C44<>\"\",ガスのご利用開始申込書!D44=$B$10),ガスのご利用開始申込書!C44,\"\")","v":""},null,null,{"$f":"IF(ガスのご利用開始申込書!D44=$B$10,ガスのご利用開始申込書!M44,\"\")","v":""}]
[null,19,{"$f":"IF(AND(ガスのご利用開始申込書!C45<>\"\",ガスのご利用開始申込書!D45=$B$10),ガスのご利用開始申込書!C45,\"\")","v":""},null,null,{"$f":"IF(ガスのご利用開始申込書!D45=$B$10,ガスのご利用開始申込書!M45,\"\")","v":""}]
[null,20,{"$f":"IF(AND(ガスのご利用開始申込書!C46<>\"\",ガスのご利用開始申込書!D46=$B$10),ガスのご利用開始申込書!C46,\"\")","v":""},null,null,{"$f":"IF(ガスのご利用開始申込書!D46=$B$10,ガスのご利用開始申込書!M46,\"\")","v":""}]

{"sheet":"【重要事項説明書】なっトクプランＯ","index":3,"n_rows":42,"n_cols":7,"rows_kept":42,"cut":false,"hidden":true,"merged":[[35,2,35,4],[35,5,35,8],[36,2,36,4],[36,5,36,8],[41,2,41,4],[41,5,41,8],[38,2,38,4],[38,5,38,8],[39,2,39,4],[39,5,39,8],[40,2,40,4],[40,5,40,8],[26,2,26,4],[26,5,26,8],[37,2,37,4],[37,5,37,8],[29,2,29,4],[29,5,29,8],[30,2,30,4],[30,5,30,8],[31,2,31,4],[31,5,31,8],[32,2,32,4],[32,5,32,8],[33,2,33,4],[33,5,33,8],[34,2,34,4],[34,5,34,8],[27,2,27,4],[27,5,27,8],[28,2,28,4],[28,5,28,8],[9,1,9,3],[16,6,16,8],[21,2,21,4],[21,5,21,8],[22,2,22,4],[22,5,22,8],[23,2,23,4],[23,5,23,8],[24,2,24,4],[24,5,24,8],[25,2,25,4],[25,5,25,8]]}
[]
[]
[]
[]
[]
[null,null,null,null,"↑ご確認後、必ずチェックを入れてください。"]
[]
[]
[null,"＜ご契約種別＞"]
[null,"なっトクプランＯ","はぴｅタイム","はぴｅタイム"]
[]
[]
[null,"＜お申込者（代理人）さま記入欄＞"]
[null,"「供給条件」および「料金表」、ご契約に関する重要事項説明書および個人情報の取扱いに同意し、"]
[null,"別紙「ガスのご利用開始のお申込み」のとおり、需給契約の申込みをいたします。"]
[]
[null,null,null,null,null,"氏　名　：",{"$f":"IF(ガスのご利用開始申込書!E14=\"\",\"\",ガスのご利用開始申込書!E14)","v":""}]
[]
[]
[null,"＜ご契約者（ご本人）さま）＞"]
[null,"お申込者さまより、下記のご契約者さまに対して、重要事項説明の内容をお伝えください。"]
[null,"No","供給地点特定番号",null,null,"お客さま名義"]
[null,1,{"$f":"IF(AND(ガスのご利用開始申込書!C27<>\"\",ガスのご利用開始申込書!D27=$B$10),ガスのご利用開始申込書!C27,\"\")","v":""},null,null,{"$f":"IF(ガスのご利用開始申込書!D27=$B$10,ガスのご利用開始申込書!M27,\"\")","v":""}]
[null,2,{"$f":"IF(AND(ガスのご利用開始申込書!C28<>\"\",ガスのご利用開始申込書!D28=$B$10),ガスのご利用開始申込書!C28,\"\")","v":""},null,null,{"$f":"IF(ガスのご利用開始申込書!D28=$B$10,ガスのご利用開始申込書!M28,\"\")","v":""}]
[null,3,{"$f":"IF(AND(ガスのご利用開始申込書!C29<>\"\",ガスのご利用開始申込書!D29=$B$10),ガスのご利用開始申込書!C29,\"\")","v":""},null,null,{"$f":"IF(ガスのご利用開始申込書!D29=$B$10,ガスのご利用開始申込書!M29,\"\")","v":""}]
[null,4,{"$f":"IF(AND(ガスのご利用開始申込書!C30<>\"\",ガスのご利用開始申込書!D30=$B$10),ガスのご利用開始申込書!C30,\"\")","v":""},null,null,{"$f":"IF(ガスのご利用開始申込書!D30=$B$10,ガスのご利用開始申込書!M30,\"\")","v":""}]
[null,5,{"$f":"IF(AND(ガスのご利用開始申込書!C31<>\"\",ガスのご利用開始申込書!D31=$B$10),ガスのご利用開始申込書!C31,\"\")","v":""},null,null,{"$f":"IF(ガスのご利用開始申込書!D31=$B$10,ガスのご利用開始申込書!M31,\"\")","v":""}]
[null,6,{"$f":"IF(AND(ガスのご利用開始申込書!C32<>\"\",ガスのご利用開始申込書!D32=$B$10),ガスのご利用開始申込書!C32,\"\")","v":""},null,null,{"$f":"IF(ガスのご利用開始申込書!D32=$B$10,ガスのご利用開始申込書!M32,\"\")","v":""}]
[null,7,{"$f":"IF(AND(ガスのご利用開始申込書!C33<>\"\",ガスのご利用開始申込書!D33=$B$10),ガスのご利用開始申込書!C33,\"\")","v":""},null,null,{"$f":"IF(ガスのご利用開始申込書!D33=$B$10,ガスのご利用開始申込書!M33,\"\")","v":""}]
[null,8,{"$f":"IF(AND(ガスのご利用開始申込書!C34<>\"\",ガスのご利用開始申込書!D34=$B$10),ガスのご利用開始申込書!C34,\"\")","v":""},null,null,{"$f":"IF(ガスのご利用開始申込書!D34=$B$10,ガスのご利用開始申込書!M34,\"\")","v":""}]
[null,9,{"$f":"IF(AND(ガスのご利用開始申込書!C35<>\"\",ガスのご利用開始申込書!D35=$B$10),ガスのご利用開始申込書!C35,\"\")","v":""},null,null,{"$f":"IF(ガスのご利用開始申込書!D35=$B$10,ガスのご利用開始申込書!M35,\"\")","v":""}]
[null,10,{"$f":"IF(AND(ガスのご利用開始申込書!C36<>\"\",ガスのご利用開始申込書!D36=$B$10),ガスのご利用開始申込書!C36,\"\")","v":""},null,null,{"$f":"IF(ガスのご利用開始申込書!D36=$B$10,ガスのご利用開始申込書!M36,\"\")","v":""}]
[null,11,{"$f":"IF(AND(ガスのご利用開始申込書!C37<>\"\",ガスのご利用開始申込書!D37=$B$10),ガスのご利用開始申込書!C37,\"\")","v":""},null,null,{"$f":"IF(ガスのご利用開始申込書!D37=$B$10,ガスのご利用開始申込書!M37,\"\")","v":""}]
[null,12,{"$f":"IF(AND(ガスのご利用開始申込書!C38<>\"\",ガスのご利用開始申込書!D38=$B$10),ガスのご利用開始申込書!C38,\"\")","v":""},null,null,{"$f":"IF(ガスのご利用開始申込書!D38=$B$10,ガスのご利用開始申込書!M38,\"\")","v":""}]
[null,13,{"$f":"IF(AND(ガスのご利用開始申込書!C39<>\"\",ガスのご利用開始申込書!D39=$B$10),ガスのご利用開始申込書!C39,\"\")","v":""},null,null,{"$f":"IF(ガスのご利用開始申込書!D39=$B$10,ガスのご利用開始申込書!M39,\"\")","v":""}]
[null,14,{"$f":"IF(AND(ガスのご利用開始申込書!C40<>\"\",ガスのご利用開始申込書!D40=$B$10),ガスのご利用開始申込書!C40,\"\")","v":""},null,null,{"$f":"IF(ガスのご利用開始申込書!D40=$B$10,ガスのご利用開始申込書!M40,\"\")","v":""}]
[null,15,{"$f":"IF(AND(ガスのご利用開始申込書!C41<>\"\",ガスのご利用開始申込書!D41=$B$10),ガスのご利用開始申込書!C41,\"\")","v":""},null,null,{"$f":"IF(ガスのご利用開始申込書!D41=$B$10,ガスのご利用開始申込書!M41,\"\")","v":""}]
[null,16,{"$f":"IF(AND(ガスのご利用開始申込書!C42<>\"\",ガスのご利用開始申込書!D42=$B$10),ガスのご利用開始申込書!C42,\"\")","v":""},null,null,{"$f":"IF(ガスのご利用開始申込書!D42=$B$10,ガスのご利用開始申込書!M42,\"\")","v":""}]
[null,17,{"$f":"IF(AND(ガスのご利用開始申込書!C43<>\"\",ガスのご利用開始申込書!D43=$B$10),ガスのご利用開始申込書!C43,\"\")","v":""},null,null,{"$f":"IF(ガスのご利用開始申込書!D43=$B$10,ガスのご利用開始申込書!M43,\"\")","v":""}]
[null,18,{"$f":"IF(AND(ガスのご利用開始申込書!C44<>\"\",ガスのご利用開始申込書!D44=$B$10),ガスのご利用開始申込書!C44,\"\")","v":""},null,null,{"$f":"IF(ガスのご利用開始申込書!D44=$B$10,ガスのご利用開始申込書!M44,\"\")","v":""}]
[null,19,{"$f":"IF(AND(ガスのご利用開始申込書!C45<>\"\",ガスのご利用開始申込書!D45=$B$10),ガスのご利用開始申込書!C45,\"\")","v":""},null,null,{"$f":"IF(ガスのご利用開始申込書!D45=$B$10,ガスのご利用開始申込書!M45,\"\")","v":""}]
[null,20,{"$f":"IF(AND(ガスのご利用開始申込書!C46<>\"\",ガスのご利用開始申込書!D46=$B$10),ガスのご利用開始申込書!C46,\"\")","v":""},null,null,{"$f":"IF(ガスのご利用開始申込書!D46=$B$10,ガスのご利用開始申込書!M46,\"\")","v":""}]