{"text_format":"1","workbook":"xlsx","n_sheets":7,"sheets":["はじめに","開始申込書","はぴｅみる電利用規約同意書","重要事項説明書→","はぴｅタイムＲ","時間帯別電灯","ｅおとくプラン"],"not_rendered":{"charts":0,"images":3,"macros":1,"external_links":0,"defined_names":7,"comments":1,"pivot_tables":0},"unopened":[],"bounds":{"document_bytes":16777216,"sheet_cells":100000,"rows_first":2000,"rows_last":500,"rows_between":2000,"halvings":0,"cell_chars":16384,"cell_head_chars":4096},"cells_cut":0,"cells_raw":0,"read":"whole","date_system":"1900"}

{"sheet":"はじめに","index":0,"n_rows":9,"n_cols":4,"rows_kept":9,"cut":false,"hidden":false,"merged":[]}
[]
[]
[null,null,"当ファイルを利用するには　マクロを有効にする必要がございます。"]
[null,null,"ファイルを開いた際に表示される『コンテンツの有効化』をクリックしてから、"]
[null,null,"「開始申込書」シートへ移動していただきますよう願いいたします。"]
[]
[null,null,null,"※ マクロやコンテンツ有効化が出来ない時は、お申込者さまが"]
[null,null,null,"　　ご使用のExcel等の環境設定が必要な場合がございます。"]
[null,null,null,"　　貴社内の担当部門や担当者さまへ、ご確認をお願いいたします。"]

{"sheet":"開始申込書","index":1,"n_rows":79,"n_cols":33,"rows_kept":79,"cut":false,"hidden":true,"merged":[[28,16,28,17],[28,18,28,19],[29,2,29,3],[25,8,25,14],[25,16,26,17],[25,7,26,7],[18,1,19,2],[18,3,19,3],[25,32,26,32],[20,1,22,2],[20,3,22,3],[25,1,26,1],[25,2,26,3],[25,4,26,4],[25,30,26,30],[25,31,26,31],[25,25,25,28],[25,6,26,6],[25,23,26,24],[25,20,26,22],[25,5,26,5],[25,29,26,29],[34,16,34,17],[34,18,34,19],[9,1,9,13],[14,1,17,2],[14,3,15,3],[14,4,15,6],[16,3,17,3],[16,4,17,6],[16,7,17,10],[10,1,10,13],[15,8,15,10],[12,1,12,32],[25,18,26,19],[25,15,26,15],[31,2,31,3],[31,16,31,17],[31,18,31,19],[29,16,29,17],[29,18,29,19],[30,2,30,3],[30,16,30,17],[30,18,30,19],[28,2,28,3],[27,2,27,3],[45,16,45,17],[45,18,45,19],[46,2,46,3],[46,16,46,17],[46,18,46,19],[40,2,40,3],[40,16,40,17],[40,18,40,19],[41,2,41,3],[41,16,41,17],[41,18,41,19],[42,2,42,3],[42,16,42,17],[42,18,42,19],[43,2,43,3],[43,16,43,17],[43,18,43,19],[45,2,45,3],[44,2,44,3],[44,16,44,17],[44,18,44,19],[39,2,39,3],[39,16,39,17],[39,18,39,19],[27,16,27,17],[27,18,27,19],[35,2,35,3],[35,16,35,17],[35,18,35,19],[32,2,32,3],[32,16,32,17],[36,2,36,3],[36,16,36,17],[36,18,36,19],[37,2,37,3],[37,16,37,17],[37,18,37,19],[38,2,38,3],[38,16,38,17],[38,18,38,19],[32,18,32,19],[33,2,33,3],[33,16,33,17],[33,18,33,19],[34,2,34,3],[49,2,49,3],[49,16,49,17],[49,18,49,19],[50,2,50,3],[50,16,50,17],[50,18,50,19],[47,2,47,3],[47,16,47,17],[47,18,47,19],[48,2,48,3],[48,16,48,17],[48,18,48,19],[53,2,53,3],[53,16,53,17],[53,18,53,19],[54,2,54,3],[54,16,54,17],[54,18,54,19],[51,2,51,3],[51,16,51,17],[51,18,51,19],[52,2,52,3],[52,16,52,17],[52,18,52,19],[57,2,57,3],[57,16,57,17],[57,18,57,19],[58,2,58,3],[58,16,58,17],[58,18,58,19],[55,2,55,3],[55,16,55,17],[55,18,55,19],[56,2,56,3],[56,16,56,17],[56,18,56,19],[61,2,61,3],[61,16,61,17],[61,18,61,19],[62,2,62,3],[62,16,62,17],[62,18,62,19],[59,2,59,3],[59,16,59,17],[59,18,59,19],[60,2,60,3],[60,16,60,17],[60,18,60,19],[65,2,65,3],[65,16,65,17],[65,18,65,19],[66,2,66,3],[66,16,66,17],[66,18,66,19],[63,2,63,3],[63,16,63,17],[63,18,63,19],[64,2,64,3],[64,16,64,17],[64,18,64,19],[69,2,69,3],[69,16,69,17],[69,18,69,19],[70,2,70,3],[70,16,70,17],[70,18,70,19],[67,2,67,3],[67,16,67,17],[67,18,67,19],[68,2,68,3],[68,16,68,17],[68,18,68,19],[73,2,73,3],[73,16,73,17],[73,18,73,19],[74,2,74,3],[74,16,74,17],[74,18,74,19],[71,2,71,3],[71,16,71,17],[71,18,71,19],[72,2,72,3],[72,16,72,17],[72,18,72,19],[77,2,77,3],[77,16,77,17],[77,18,77,19],[75,2,75,3],[75,16,75,17],[75,18,75,19],[76,2,76,3],[76,16,76,17],[76,18,76,19]]}
[]
[]
[null,"必要事項をご入力のうえ、申込受付フォームよりお申込みください。"]
[null,"【 お申込みに関する注意事項 】"]
[null,"○ 申込受付フォームのみでの受付となります。（ＦＡＸ受付、Ｅメール受付は終了していますのでご注意ください。）"]
[null,"○ 必須入力項目が空欄となっている場合は受付できかねますので、漏れなく記入してください。"]
[null,"○ ご契約種別は、お客さまによりご選択いただくことが可能です。"]
[null,"○ お申込みいただいた内容について、確認のためにご連絡を差し上げる場合がございます。"]
[null,"○ 平日の営業時間（９：００～１７：００）終了後、および土・日・祝日にお申込みいただいた内容については、翌営業日以降に確認させていただいております。"]
[null,"○ 当申込書でのお申込みが可能な ご使用開始日 は、お申込み日を基準に３０日前後迄です。（ご使用開始日当日のお申込みはできかねます。）\n　　お申込み当日の開始など、お急ぎの場合はお手数ですが関西電力までお問い合わせください。\n　　（ お問い合わせ先 ）\n　　　　関西電力コンタクトセンター\n　　　　受付時間：９：００～１８：００（土日祝・年末年始除く）\n　　　　電話番号：０８００－７７７－８８１０"]
[null,"○ ご住所・お名前・電話番号などの個人情報は、当社の個人情報利用目的の範囲内で利用させていただきます。\n　　(個人情報保護方針　https://www.kepco.co.jp/siteinfo/privacy/)"]
[]
[null,"電気のご契約開始のお申込み"]
[null,"【ご確認事項：お申込者（代理人）さま】"]
[null,"お申込者さま",null,"お名前\n※必須",null,null,null,"ＴＥＬ\n※必須"]
[null,null,null,null,null,null,null,"メールアドレス"]
[null,null,null,"ご契約者さま\nとの関係\n※必須"]
[]
[null,"ご本人さまの同意\n※必須",null,"有","※ご本人さま以外のお申込みの際は、必ずご本人さまの同意（代理権）を得てお申込みください。"]
[null,null,null,null,"（ご本人さまの同意がない場合は受付できません。予めご容赦ください。）"]
[null,"約款・供給条件の\n同意 ※必須",null,"有","　電気のご契約にあたっては、以下の約款を契約の内容とします。"]
[null,null,null,null,"　〇 従量電灯A：「電気特定小売供給約款」"]
[null,null,null,null,"　〇 はぴeタイムR、時間帯別電灯、eおとくプラン、深夜電力（A・B）：「電気供給条件」および「料金表」"]
[]
[null,"【ご確認事項：ご契約者（ご本人）さま】",null,null,null,null,null,null,null,null,null,null,null,null,null,null,null,null,null,null,null,null,null,null,null,null,null,null,null,null,null,null,"Ver6.0　2026/5/20 更新分"]
[null,"Ｎｏ","お客さま番号",null,"契約種別\n※必須","夜間蓄熱式\n機器の設置確認\n※空白は必須","クッキングヒーター\nの設置確認\n※空白は必須","短期使用","ご契約住所　※必須",null,null,null,null,null,null,"ご使用開始日\n※必須","お客さま名義\n　(漢字)\n※必須",null,"お客さま名義\n（フリガナ）\n※必須",null,"電話番号",null,null,"ご使用量・ご請求金額のお知らせ\n※必須",null,"振込用紙・検針票の送付先\n（ご契約住所以外の場合）",null,null,null,"適格\n請求書","支払者\n集約番号","重要事項説明が必要となるお客さま","不在送電\n同意\n※必須"]
[null,null,null,null,null,null,null,null,"郵便番号","都道府県","市区郡町村","字名丁目","番地","建物名","棟・部屋番号",null,null,null,null,null,null,null,null,null,null,"郵便番号","市区郡町村","字名丁目番地","建物名・部屋番号"]
[null,"例","01-11-1234-567890",null,"はぴｅタイムＲ","有","有","有","123-4567","大阪府","〇〇市〇〇町","〇丁目","1-1","マンションK","101","2023-04-01","関電　太郎",null,"ｶﾝﾃﾞﾝ　ﾀﾛｳ",null,"090","1234","5678","はぴｅみる電","同意要","123-4567","〇〇市〇〇町","〇丁目1-1","マンションK101","有",123456,"説明要","有"]
[null,1,null,null,"従量電灯Ａ",null,null,null,null,null,null,null,null,null,null,null,null,null,null,null,null,null,null,null,null,null,null,null,null,null,null,"-"]
[null,2,null,null,"従量電灯Ａ",null,null,null,null,null,null,null,null,null,null,null,null,null,null,null,null,null,null,null,null,null,null,null,null,null,null,"-"]
[null,3,null,null,"従量電灯Ａ",null,null,null,null,null,null,null,null,null,null,null,null,null,null,null,null,null,null,null,null,null,null,null,null,null,null,"-"]
[null,4,null,null,"従量電灯Ａ",null,null,null,null,null,null,null,null,null,null,null,null,null,null,null,null,null,null,null,null,null,null,null,null,null,null,"-"]
[null,5,null,null,"従量電灯Ａ",null,null,null,null,null,null,null,null,null,null,null,null,null,null,null,null,null,null,null,null,null,null,null,null,null,null,"-"]
[null,6,null,null,"従量電灯Ａ",null,null,null,null,null,null,null,null,null,null,null,null,null,null,null,null,null,null,null,null,null,null,null,null,null,null,"-"]
[null,7,null,null,"従量電灯Ａ",null,null,null,null,null,null,null,null,null,null,null,null,null,null,null,null,null,null,null,null,null,null,null,null,null,null,"-"]
[null,8,null,null,"従量電灯Ａ",null,null,null,null,null,null,null,null,null,null,null,null,null,null,null,null,null,null,null,null,null,null,null,null,null,null,"-"]
[null,9,null,null,"従量電灯Ａ",null,null,null,null,null,null,null,null,null,null,null,null,null,null,null,null,null,null,null,null,null,null,null,null,null,null,"-"]
[null,10,null,null,"従量電灯Ａ",null,null,null,null,null,null,null,null,null,null,null,null,null,null,null,null,null,null,null,null,null,null,null,null,null,null,"-"]
[null,11,null,null,"従量電灯Ａ",null,null,null,null,null,null,null,null,null,null,null,null,null,null,null,null,null,null,null,null,null,null,null,null,null,null,"-"]
[null,12,null,null,"従量電灯Ａ",null,null,null,null,null,null,null,null,null,null,null,null,null,null,null,null,null,null,null,null,null,null,null,null,null,null,"-"]
[null,13,null,null,"従量電灯Ａ",null,null,null,null,null,null,null,null,null,null,null,null,null,null,null,null,null,null,null,null,null,null,null,null,null,null,"-"]
[null,14,null,null,"従量電灯Ａ",null,null,null,null,null,null,null,null,null,null,null,null,null,null,null,null,null,null,null,null,null,null,null,null,null,null,"-"]
[null,15,null,null,"従量電灯Ａ",null,null,null,null,null,null,null,null,null,null,null,null,null,null,null,null,null,null,null,null,null,null,null,null,null,null,"-"]
[null,16,null,null,"従量電灯Ａ",null,null,null,null,null,null,null,null,null,null,null,null,null,null,null,null,null,null,null,null,null,null,null,null,null,null,"-"]
[null,17,null,null,"従量電灯Ａ",null,null,null,null,null,null,null,null,null,null,null,null,null,null,null,null,null,null,null,null,null,null,null,null,null,null,"-"]
[null,18,null,null,"従量電灯Ａ",null,null,null,null,null,null,null,null,null,null,null,null,null,null,null,null,null,null,null,null,null,null,null,null,null,null,"-"]
[null,19,null,null,"従量電灯Ａ",null,null,null,null,null,null,null,null,null,null,null,null,null,null,null,null,null,null,null,null,null,null,null,null,null,null,"-"]
[null,20,null,null,"従量電灯Ａ",null,null,null,null,null,null,null,null,null,null,null,null,null,null,null,null,null,null,null,null,null,null,null,null,null,null,"-"]
[null,21,null,null,"従量電灯Ａ",null,null,null,null,null,null,null,null,null,null,null,null,null,null,null,null,null,null,null,null,null,null,null,null,null,null,"-"]
[null,22,null,null,"従量電灯Ａ",null,null,null,null,null,null,null,null,null,null,null,null,null,null,null,null,null,null,null,null,null,null,null,null,null,null,"-"]
[null,23,null,null,"従量電灯Ａ",null,null,null,null,null,null,null,null,null,null,null,null,null,null,null,null,null,null,null,null,null,null,null,null,null,null,"-"]
[null,24,null,null,"従量電灯Ａ",null,null,null,null,null,null,null,null,null,null,null,null,null,null,null,null,null,null,null,null,null,null,null,null,null,null,"-"]
[null,25,null,null,"従量電灯Ａ",null,null,null,null,null,null,null,null,null,null,null,null,null,null,null,null,null,null,null,null,null,null,null,null,null,null,"-"]
[null,26,null,null,"従量電灯Ａ",null,null,null,null,null,null,null,null,null,null,null,null,null,null,null,null,null,null,null,null,null,null,null,null,null,null,"-"]
[null,27,null,null,"従量電灯Ａ",null,null,null,null,null,null,null,null,null,null,null,null,null,null,null,null,null,null,null,null,null,null,null,null,null,null,"-"]
[null,28,null,null,"従量電灯Ａ",null,null,null,null,null,null,null,null,null,null,null,null,null,null,null,null,null,null,null,null,null,null,null,null,null,null,"-"]
[null,29,null,null,"従量電灯Ａ",null,null,null,null,null,null,null,null,null,null,null,null,null,null,null,null,null,null,null,null,null,null,null,null,null,null,"-"]
[null,30,null,null,"従量電灯Ａ",null,null,null,null,null,null,null,null,null,null,null,null,null,null,null,null,null,null,null,null,null,null,null,null,null,null,"-"]
[null,31,null,null,"従量電灯Ａ",null,null,null,null,null,null,null,null,null,null,null,null,null,null,null,null,null,null,null,null,null,null,null,null,null,null,"-"]
[null,32,null,null,"従量電灯Ａ",null,null,null,null,null,null,null,null,null,null,null,null,null,null,null,null,null,null,null,null,null,null,null,null,null,null,"-"]
[null,33,null,null,"従量電灯Ａ",null,null,null,null,null,null,null,null,null,null,null,null,null,null,null,null,null,null,null,null,null,null,null,null,null,null,"-"]
[null,34,null,null,"従量電灯Ａ",null,null,null,null,null,null,null,null,null,null,null,null,null,null,null,null,null,null,null,null,null,null,null,null,null,null,"-"]
[null,35,null,null,"従量電灯Ａ",null,null,null,null,null,null,null,null,null,null,null,null,null,null,null,null,null,null,null,null,null,null,null,null,null,null,"-"]
[null,36,null,null,"従量電灯Ａ",null,null,null,null,null,null,null,null,null,null,null,null,null,null,null,null,null,null,null,null,null,null,null,null,null,null,"-"]
[null,37,null,null,"従量電灯Ａ",null,null,null,null,null,null,null,null,null,null,null,null,null,null,null,null,null,null,null,null,null,null,null,null,null,null,"-"]
[null,38,null,null,"従量電灯Ａ",null,null,null,null,null,null,null,null,null,null,null,null,null,null,null,null,null,null,null,null,null,null,null,null,null,null,"-"]
[null,39,null,null,"従量電灯Ａ",null,null,null,null,null,null,null,null,null,null,null,null,null,null,null,null,null,null,null,null,null,null,null,null,null,null,"-"]
[null,40,null,null,"従量電灯Ａ",null,null,null,null,null,null,null,null,null,null,null,null,null,null,null,null,null,null,null,null,null,null,null,null,null,null,"-"]
[null,41,null,null,"従量電灯Ａ",null,null,null,null,null,null,null,null,null,null,null,null,null,null,null,null,null,null,null,null,null,null,null,null,null,null,"-"]
[null,42,null,null,"従量電灯Ａ",null,null,null,null,null,null,null,null,null,null,null,null,null,null,null,null,null,null,null,null,null,null,null,null,null,null,"-"]
[null,43,null,null,"従量電灯Ａ",null,null,null,null,null,null,null,null,null,null,null,null,null,null,null,null,null,null,null,null,null,null,null,null,null,null,"-"]
[null,44,null,null,"従量電灯Ａ",null,null,null,null,null,null,null,null,null,null,null,null,null,null,null,null,null,null,null,null,null,null,null,null,null,null,"-"]
[null,45,null,null,"従量電灯Ａ",null,null,null,null,null,null,null,null,null,null,null,null,null,null,null,null,null,null,null,null,null,null,null,null,null,null,"-"]
[null,46,null,null,"従量電灯Ａ",null,null,null,null,null,null,null,null,null,null,null,null,null,null,null,null,null,null,null,null,null,null,null,null,null,null,"-"]
[null,47,null,null,"従量電灯Ａ",null,null,null,null,null,null,null,null,null,null,null,null,null,null,null,null,null,null,null,null,null,null,null,null,null,null,"-"]
[null,48,null,null,"従量電灯Ａ",null,null,null,null,null,null,null,null,null,null,null,null,null,null,null,null,null,null,null,null,null,null,null,null,null,null,"-"]
[null,49,null,null,"従量電灯Ａ",null,null,null,null,null,null,null,null,null,null,null,null,null,null,null,null,null,null,null,null,null,null,null,null,null,null,"-"]
[null,50,null,null,"従量電灯Ａ",null,null,null,null,null,null,null,null,null,null,null,null,null,null,null,null,null,null,null,null,null,null,null,null,null,null,"-"]
[null,null,null,null,null,null,null,null,null,null,null,null,null,null,null,null,null,null,null,null,null,null,null,null,null,null,null,null,null,null,null,null,"関西電力株式会社"]

{"sheet":"はぴｅみる電利用規約同意書","index":2,"n_rows":68,"n_cols":6,"rows_kept":68,"cut":false,"hidden":true,"merged":[[37,2,37,4],[37,5,37,7],[32,2,32,4],[32,5,32,7],[33,2,33,4],[33,5,33,7],[34,2,34,4],[34,5,34,7],[35,2,35,4],[35,5,35,7],[36,2,36,4],[36,5,36,7],[27,2,27,4],[27,5,27,7],[28,2,28,4],[28,5,28,7],[29,2,29,4],[29,5,29,7],[30,2,30,4],[30,5,30,7],[31,2,31,4],[31,5,31,7],[22,2,22,4],[22,5,22,7],[23,2,23,4],[23,5,23,7],[24,2,24,4],[24,5,24,7],[25,2,25,4],[25,5,25,7],[26,2,26,4],[26,5,26,7],[17,2,17,4],[17,5,17,7],[18,2,18,4],[18,5,18,7],[19,2,19,4],[19,5,19,7],[20,2,20,4],[20,5,20,7],[21,2,21,4],[21,5,21,7],[41,2,41,4],[41,5,41,7],[42,2,42,4],[42,5,42,7],[43,2,43,4],[43,5,43,7],[38,2,38,4],[38,5,38,7],[39,2,39,4],[39,5,39,7],[40,2,40,4],[40,5,40,7],[47,2,47,4],[47,5,47,7],[48,2,48,4],[48,5,48,7],[49,2,49,4],[49,5,49,7],[44,2,44,4],[44,5,44,7],[45,2,45,4],[45,5,45,7],[46,2,46,4],[46,5,46,7],[53,2,53,4],[53,5,53,7],[54,2,54,4],[54,5,54,7],[55,2,55,4],[55,5,55,7],[50,2,50,4],[50,5,50,7],[51,2,51,4],[51,5,51,7],[52,2,52,4],[52,5,52,7],[59,2,59,4],[59,5,59,7],[60,2,60,4],[60,5,60,7],[61,2,61,4],[61,5,61,7],[56,2,56,4],[56,5,56,7],[57,2,57,4],[57,5,57,7],[58,2,58,4],[58,5,58,7],[65,2,65,4],[65,5,65,7],[66,2,66,4],[66,5,66,7],[67,2,67,4],[67,5,67,7],[62,2,62,4],[62,5,62,7],[63,2,63,4],[63,5,63,7],[64,2,64,4],[64,5,64,7]]}
[]
[]
[]
[]
[]
[]
[]
[]
[]
[]
[]
[]
[]
[]
[]
[null,"＜「はぴｅみる電」の利用規約に同意が必要なお客さま＞"]
[]
[null,"No","お客さま番号",null,null,"お客さま名義"]
[null,1,{"$f":"IF(AND(開始申込書!Y29=\"同意要\",開始申込書!C29<>\"\"),開始申込書!C29,\"-\")","v":"-"},null,null,{"$f":"IF(開始申込書!Y29=\"同意要\",開始申込書!Q29,\"-\")","v":"-"}]
[null,2,{"$f":"IF(AND(開始申込書!Y30=\"同意要\",開始申込書!C30<>\"\"),開始申込書!C30,\"-\")","v":"-"},null,null,{"$f":"IF(開始申込書!Y30=\"同意要\",開始申込書!Q30,\"-\")","v":"-"}]
[null,3,{"$f":"IF(AND(開始申込書!Y31=\"同意要\",開始申込書!C31<>\"\"),開始申込書!C31,\"-\")","v":"-"},null,null,{"$f":"IF(開始申込書!Y31=\"同意要\",開始申込書!Q31,\"-\")","v":"-"}]
[null,4,{"$f":"IF(AND(開始申込書!Y32=\"同意要\",開始申込書!C32<>\"\"),開始申込書!C32,\"-\")","v":"-"},null,null,{"$f":"IF(開始申込書!Y32=\"同意要\",開始申込書!Q32,\"-\")","v":"-"}]
[null,5,{"$f":"IF(AND(開始申込書!Y33=\"同意要\",開始申込書!C33<>\"\"),開始申込書!C33,\"-\")","v":"-"},null,null,{"$f":"IF(開始申込書!Y33=\"同意要\",開始申込書!Q33,\"-\")","v":"-"}]
[null,6,{"$f":"IF(AND(開始申込書!Y34=\"同意要\",開始申込書!C34<>\"\"),開始申込書!C34,\"-\")","v":"-"},null,null,{"$f":"IF(開始申込書!Y34=\"同意要\",開始申込書!Q34,\"-\")","v":"-"}]
[null,7,{"$f":"IF(AND(開始申込書!Y35=\"同意要\",開始申込書!C35<>\"\"),開始申込書!C35,\"-\")","v":"-"},null,null,{"$f":"IF(開始申込書!Y35=\"同意要\",開始申込書!Q35,\"-\")","v":"-"}]
[null,8,{"$f":"IF(AND(開始申込書!Y36=\"同意要\",開始申込書!C36<>\"\"),開始申込書!C36,\"-\")","v":"-"},null,null,{"$f":"IF(開始申込書!Y36=\"同意要\",開始申込書!Q36,\"-\")","v":"-"}]
[null,9,{"$f":"IF(AND(開始申込書!Y37=\"同意要\",開始申込書!C37<>\"\"),開始申込書!C37,\"-\")","v":"-"},null,null,{"$f":"IF(開始申込書!Y37=\"同意要\",開始申込書!Q37,\"-\")","v":"-"}]
[null,10,{"$f":"IF(AND(開始申込書!Y38=\"同意要\",開始申込書!C38<>\"\"),開始申込書!C38,\"-\")","v":"-"},null,null,{"$f":"IF(開始申込書!Y38=\"同意要\",開始申込書!Q38,\"-\")","v":"-"}]
[null,11,{"$f":"IF(AND(開始申込書!Y39=\"同意要\",開始申込書!C39<>\"\"),開始申込書!C39,\"-\")","v":"-"},null,null,{"$f":"IF(開始申込書!Y39=\"同意要\",開始申込書!Q39,\"-\")","v":"-"}]
[null,12,{"$f":"IF(AND(開始申込書!Y40=\"同意要\",開始申込書!C40<>\"\"),開始申込書!C40,\"-\")","v":"-"},null,null,{"$f":"IF(開始申込書!Y40=\"同意要\",開始申込書!Q40,\"-\")","v":"-"}]
[null,13,{"$f":"IF(AND(開始申込書!Y41=\"同意要\",開始申込書!C41<>\"\"),開始申込書!C41,\"-\")","v":"-"},null,null,{"$f":"IF(開始申込書!Y41=\"同意要\",開始申込書!Q41,\"-\")","v":"-"}]
[null,14,{"$f":"IF(AND(開始申込書!Y42=\"同意要\",開始申込書!C42<>\"\"),開始申込書!C42,\"-\")","v":"-"},null,null,{"$f":"IF(開始申込書!Y42=\"同意要\",開始申込書!Q42,\"-\")","v":"-"}]
[null,15,{"$f":"IF(AND(開始申込書!Y43=\"同意要\",開始申込書!C43<>\"\"),開始申込書!C43,\"-\")","v":"-"},null,null,{"$f":"IF(開始申込書!Y43=\"同意要\",開始申込書!Q43,\"-\")","v":"-"}]
[null,16,{"$f":"IF(AND(開始申込書!Y44=\"同意要\",開始申込書!C44<>\"\"),開始申込書!C44,\"-\")","v":"-"},null,null,{"$f":"IF(開始申込書!Y44=\"同意要\",開始申込書!Q44,\"-\")","v":"-"}]
[null,17,{"$f":"IF(AND(開始申込書!Y45=\"同意要\",開始申込書!C45<>\"\"),開始申込書!C45,\"-\")","v":"-"},null,null,{"$f":"IF(開始申込書!Y45=\"同意要\",開始申込書!Q45,\"-\")","v":"-"}]
[null,18,{"$f":"IF(AND(開始申込書!Y46=\"同意要\",開始申込書!C46<>\"\"),開始申込書!C46,\"-\")","v":"-"},null,null,{"$f":"IF(開始申込書!Y46=\"同意要\",開始申込書!Q46,\"-\")","v":"-"}]
[null,19,{"$f":"IF(AND(開始申込書!Y47=\"同意要\",開始申込書!C47<>\"\"),開始申込書!C47,\"-\")","v":"-"},null,null,{"$f":"IF(開始申込書!Y47=\"同意要\",開始申込書!Q47,\"-\")","v":"-"}]
[null,20,{"$f":"IF(AND(開始申込書!Y48=\"同意要\",開始申込書!C48<>\"\"),開始申込書!C48,\"-\")","v":"-"},null,null,{"$f":"IF(開始申込書!Y48=\"同意要\",開始申込書!Q48,\"-\")","v":"-"}]
[null,21,{"$f":"IF(AND(開始申込書!Y49=\"同意要\",開始申込書!C49<>\"\"),開始申込書!C49,\"-\")","v":"-"},null,null,{"$f":"IF(開始申込書!Y49=\"同意要\",開始申込書!Q49,\"-\")","v":"-"}]
[null,22,{"$f":"IF(AND(開始申込書!Y50=\"同意要\",開始申込書!C50<>\"\"),開始申込書!C50,\"-\")","v":"-"},null,null,{"$f":"IF(開始申込書!Y50=\"同意要\",開始申込書!Q50,\"-\")","v":"-"}]
[null,23,{"$f":"IF(AND(開始申込書!Y51=\"同意要\",開始申込書!C51<>\"\"),開始申込書!C51,\"-\")","v":"-"},null,null,{"$f":"IF(開始申込書!Y51=\"同意要\",開始申込書!Q51,\"-\")","v":"-"}]
[null,24,{"$f":"IF(AND(開始申込書!Y52=\"同意要\",開始申込書!C52<>\"\"),開始申込書!C52,\"-\")","v":"-"},null,null,{"$f":"IF(開始申込書!Y52=\"同意要\",開始申込書!Q52,\"-\")","v":"-"}]
[null,25,{"$f":"IF(AND(開始申込書!Y53=\"同意要\",開始申込書!C53<>\"\"),開始申込書!C53,\"-\")","v":"-"},null,null,{"$f":"IF(開始申込書!Y53=\"同意要\",開始申込書!Q53,\"-\")","v":"-"}]
[null,26,{"$f":"IF(AND(開始申込書!Y54=\"同意要\",開始申込書!C54<>\"\"),開始申込書!C54,\"-\")","v":"-"},null,null,{"$f":"IF(開始申込書!Y54=\"同意要\",開始申込書!Q54,\"-\")","v":"-"}]
[null,27,{"$f":"IF(AND(開始申込書!Y55=\"同意要\",開始申込書!C55<>\"\"),開始申込書!C55,\"-\")","v":"-"},null,null,{"$f":"IF(開始申込書!Y55=\"同意要\",開始申込書!Q55,\"-\")","v":"-"}]
[null,28,{"$f":"IF(AND(開始申込書!Y56=\"同意要\",開始申込書!C56<>\"\"),開始申込書!C56,\"-\")","v":"-"},null,null,{"$f":"IF(開始申込書!Y56=\"同意要\",開始申込書!Q56,\"-\")","v":"-"}]
[null,29,{"$f":"IF(AND(開始申込書!Y57=\"同意要\",開始申込書!C57<>\"\"),開始申込書!C57,\"-\")","v":"-"},null,null,{"$f":"IF(開始申込書!Y57=\"同意要\",開始申込書!Q57,\"-\")","v":"-"}]
[null,30,{"$f":"IF(AND(開始申込書!Y58=\"同意要\",開始申込書!C58<>\"\"),開始申込書!C58,\"-\")","v":"-"},null,null,{"$f":"IF(開始申込書!Y58=\"同意要\",開始申込書!Q58,\"-\")","v":"-"}]
[null,31,{"$f":"IF(AND(開始申込書!Y59=\"同意要\",開始申込書!C59<>\"\"),開始申込書!C59,\"-\")","v":"-"},null,null,{"$f":"IF(開始申込書!Y59=\"同意要\",開始申込書!Q59,\"-\")","v":"-"}]
[null,32,{"$f":"IF(AND(開始申込書!Y60=\"同意要\",開始申込書!C60<>\"\"),開始申込書!C60,\"-\")","v":"-"},null,null,{"$f":"IF(開始申込書!Y60=\"同意要\",開始申込書!Q60,\"-\")","v":"-"}]
[null,33,{"$f":"IF(AND(開始申込書!Y61=\"同意要\",開始申込書!C61<>\"\"),開始申込書!C61,\"-\")","v":"-"},null,null,{"$f":"IF(開始申込書!Y61=\"同意要\",開始申込書!Q61,\"-\")","v":"-"}]
[null,34,{"$f":"IF(AND(開始申込書!Y62=\"同意要\",開始申込書!C62<>\"\"),開始申込書!C62,\"-\")","v":"-"},null,null,{"$f":"IF(開始申込書!Y62=\"同意要\",開始申込書!Q62,\"-\")","v":"-"}]
[null,35,{"$f":"IF(AND(開始申込書!Y63=\"同意要\",開始申込書!C63<>\"\"),開始申込書!C63,\"-\")","v":"-"},null,null,{"$f":"IF(開始申込書!Y63=\"同意要\",開始申込書!Q63,\"-\")","v":"-"}]
[null,36,{"$f":"IF(AND(開始申込書!Y64=\"同意要\",開始申込書!C64<>\"\"),開始申込書!C64,\"-\")","v":"-"},null,null,{"$f":"IF(開始申込書!Y64=\"同意要\",開始申込書!Q64,\"-\")","v":"-"}]
[null,37,{"$f":"IF(AND(開始申込書!Y65=\"同意要\",開始申込書!C65<>\"\"),開始申込書!C65,\"-\")","v":"-"},null,null,{"$f":"IF(開始申込書!Y65=\"同意要\",開始申込書!Q65,\"-\")","v":"-"}]
[null,38,{"$f":"IF(AND(開始申込書!Y66=\"同意要\",開始申込書!C66<>\"\"),開始申込書!C66,\"-\")","v":"-"},null,null,{"$f":"IF(開始申込書!Y66=\"同意要\",開始申込書!Q66,\"-\")","v":"-"}]
[null,39,{"$f":"IF(AND(開始申込書!Y67=\"同意要\",開始申込書!C67<>\"\"),開始申込書!C67,\"-\")","v":"-"},null,null,{"$f":"IF(開始申込書!Y67=\"同意要\",開始申込書!Q67,\"-\")","v":"-"}]
[null,40,{"$f":"IF(AND(開始申込書!Y68=\"同意要\",開始申込書!C68<>\"\"),開始申込書!C68,\"-\")","v":"-"},null,null,{"$f":"IF(開始申込書!Y68=\"同意要\",開始申込書!Q68,\"-\")","v":"-"}]
[null,41,{"$f":"IF(AND(開始申込書!Y69=\"同意要\",開始申込書!C69<>\"\"),開始申込書!C69,\"-\")","v":"-"},null,null,{"$f":"IF(開始申込書!Y69=\"同意要\",開始申込書!Q69,\"-\")","v":"-"}]
[null,42,{"$f":"IF(AND(開始申込書!Y70=\"同意要\",開始申込書!C70<>\"\"),開始申込書!C70,\"-\")","v":"-"},null,null,{"$f":"IF(開始申込書!Y70=\"同意要\",開始申込書!Q70,\"-\")","v":"-"}]
[null,43,{"$f":"IF(AND(開始申込書!Y71=\"同意要\",開始申込書!C71<>\"\"),開始申込書!C71,\"-\")","v":"-"},null,null,{"$f":"IF(開始申込書!Y71=\"同意要\",開始申込書!Q71,\"-\")","v":"-"}]
[null,44,{"$f":"IF(AND(開始申込書!Y72=\"同意要\",開始申込書!C72<>\"\"),開始申込書!C72,\"-\")","v":"-"},null,null,{"$f":"IF(開始申込書!Y72=\"同意要\",開始申込書!Q72,\"-\")","v":"-"}]
[null,45,{"$f":"IF(AND(開始申込書!Y73=\"同意要\",開始申込書!C73<>\"\"),開始申込書!C73,\"-\")","v":"-"},null,null,{"$f":"IF(開始申込書!Y73=\"同意要\",開始申込書!Q73,\"-\")","v":"-"}]
[null,46,{"$f":"IF(AND(開始申込書!Y74=\"同意要\",開始申込書!C74<>\"\"),開始申込書!C74,\"-\")","v":"-"},null,null,{"$f":"IF(開始申込書!Y74=\"同意要\",開始申込書!Q74,\"-\")","v":"-"}]
[null,47,{"$f":"IF(AND(開始申込書!Y75=\"同意要\",開始申込書!C75<>\"\"),開始申込書!C75,\"-\")","v":"-"},null,null,{"$f":"IF(開始申込書!Y75=\"同意要\",開始申込書!Q75,\"-\")","v":"-"}]
[null,48,{"$f":"IF(AND(開始申込書!Y76=\"同意要\",開始申込書!C76<>\"\"),開始申込書!C76,\"-\")","v":"-"},null,null,{"$f":"IF(開始申込書!Y76=\"同意要\",開始申込書!Q76,\"-\")","v":"-"}]
[null,49,{"$f":"IF(AND(開始申込書!Y77=\"同意要\",開始申込書!C77<>\"\"),開始申込書!C77,\"-\")","v":"-"},null,null,{"$f":"IF(開始申込書!Y77=\"同意要\",開始申込書!Q77,\"-\")","v":"-"}]
[null,50,{"$f":"IF(AND(開始申込書!Y78=\"同意要\",開始申込書!C78<>\"\"),開始申込書!C78,\"-\")","v":"-"},null,null,{"$f":"IF(開始申込書!Y78=\"同意要\",開始申込書!Q78,\"-\")","v":"-"}]

{"sheet":"重要事項説明書→","index":3,"n_rows":0,"n_cols":0,"rows_kept":0,"cut":false,"hidden":true,"merged":[]}

{"sheet":"はぴｅタイムＲ","index":4,"n_rows":72,"n_cols":7,"rows_kept":72,"cut":false,"hidden":true,"merged":[[35,2,35,4],[35,5,35,7],[36,2,36,4],[36,5,36,7],[37,2,37,4],[37,5,37,7],[41,2,41,4],[41,5,41,7],[38,2,38,4],[38,5,38,7],[39,2,39,4],[39,5,39,7],[40,2,40,4],[40,5,40,7],[30,2,30,4],[30,5,30,7],[31,2,31,4],[31,5,31,7],[32,2,32,4],[32,5,32,7],[33,2,33,4],[33,5,33,7],[34,2,34,4],[34,5,34,7],[25,2,25,4],[25,5,25,7],[26,2,26,4],[26,5,26,7],[27,2,27,4],[27,5,27,7],[28,2,28,4],[28,5,28,7],[29,2,29,4],[29,5,29,7],[9,1,9,3],[16,6,16,8],[21,2,21,4],[21,5,21,7],[22,2,22,4],[22,5,22,7],[23,2,23,4],[23,5,23,7],[24,2,24,4],[24,5,24,7],[45,2,45,4],[45,5,45,7],[46,2,46,4],[46,5,46,7],[47,2,47,4],[47,5,47,7],[42,2,42,4],[42,5,42,7],[43,2,43,4],[43,5,43,7],[44,2,44,4],[44,5,44,7],[51,2,51,4],[51,5,51,7],[52,2,52,4],[52,5,52,7],[53,2,53,4],[53,5,53,7],[48,2,48,4],[48,5,48,7],[49,2,49,4],[49,5,49,7],[50,2,50,4],[50,5,50,7],[57,2,57,4],[57,5,57,7],[58,2,58,4],[58,5,58,7],[59,2,59,4],[59,5,59,7],[54,2,54,4],[54,5,54,7],[55,2,55,4],[55,5,55,7],[56,2,56,4],[56,5,56,7],[63,2,63,4],[63,5,63,7],[64,2,64,4],[64,5,64,7],[65,2,65,4],[65,5,65,7],[60,2,60,4],[60,5,60,7],[61,2,61,4],[61,5,61,7],[62,2,62,4],[62,5,62,7],[69,2,69,4],[69,5,69,7],[70,2,70,4],[70,5,70,7],[71,2,71,4],[71,5,71,7],[66,2,66,4],[66,5,66,7],[67,2,67,4],[67,5,67,7],[68,2,68,4],[68,5,68,7]]}
[]
[]
[]
[]
[]
[null,null,null,null,"↑ご確認後、クリックのうえ、必ずチェックを入れてください。"]
[]
[]
[null,"＜ご契約メニュー＞"]
[null,"はぴｅタイムＲ","はぴｅタイム","はぴｅタイム"]
[]
[]
[null,"＜お申込み者（代理人）さま記入欄＞"]
[null,"「電気供給条件」および「料金表」、ご契約に関する重要事項説明書および個人情報の取扱いに同意し、"]
[null,"別紙「電気のご契約開始のお申込み」のとおり、需給契約の申込みをいたします。"]
[]
[null,null,null,null,null,"氏　名　：",{"$f":"IF(開始申込書!E15=\"\",\"\",開始申込書!E15)","v":""}]
[]
[]
[null,"＜上記の契約メニューによるご契約者（ご本人さま）＞"]
[null,"代理人さまより、下記のお客さまに対して、重要事項説明の内容をお伝えください。"]
[null,"No","お客さま番号",null,null,"お客さま名義"]
[null,1,{"$f":"IF(AND(開始申込書!E29=\"はぴｅタイムＲ\",開始申込書!C29<>\"\"),開始申込書!C29,\"-\")","v":"-"},null,null,{"$f":"IF(開始申込書!E29=\"はぴｅタイムＲ\",開始申込書!Q29,\"-\")","v":"-"}]
[null,2,{"$f":"IF(AND(開始申込書!E30=\"はぴｅタイムＲ\",開始申込書!C30<>\"\"),開始申込書!C30,\"-\")","v":"-"},null,null,{"$f":"IF(開始申込書!E30=\"はぴｅタイムＲ\",開始申込書!Q30,\"-\")","v":"-"}]
[null,3,{"$f":"IF(AND(開始申込書!E31=\"はぴｅタイムＲ\",開始申込書!C31<>\"\"),開始申込書!C31,\"-\")","v":"-"},null,null,{"$f":"IF(開始申込書!E31=\"はぴｅタイムＲ\",開始申込書!Q31,\"-\")","v":"-"}]
[null,4,{"$f":"IF(AND(開始申込書!E32=\"はぴｅタイムＲ\",開始申込書!C32<>\"\"),開始申込書!C32,\"-\")","v":"-"},null,null,{"$f":"IF(開始申込書!E32=\"はぴｅタイムＲ\",開始申込書!Q32,\"-\")","v":"-"}]
[null,5,{"$f":"IF(AND(開始申込書!E33=\"はぴｅタイムＲ\",開始申込書!C33<>\"\"),開始申込書!C33,\"-\")","v":"-"},null,null,{"$f":"IF(開始申込書!E33=\"はぴｅタイムＲ\",開始申込書!Q33,\"-\")","v":"-"}]
[null,6,{"$f":"IF(AND(開始申込書!E34=\"はぴｅタイムＲ\",開始申込書!C34<>\"\"),開始申込書!C34,\"-\")","v":"-"},null,null,{"$f":"IF(開始申込書!E34=\"はぴｅタイムＲ\",開始申込書!Q34,\"-\")","v":"-"}]
[null,7,{"$f":"IF(AND(開始申込書!E35=\"はぴｅタイムＲ\",開始申込書!C35<>\"\"),開始申込書!C35,\"-\")","v":"-"},null,null,{"$f":"IF(開始申込書!E35=\"はぴｅタイムＲ\",開始申込書!Q35,\"-\")","v":"-"}]
[null,8,{"$f":"IF(AND(開始申込書!E36=\"はぴｅタイムＲ\",開始申込書!C36<>\"\"),開始申込書!C36,\"-\")","v":"-"},null,null,{"$f":"IF(開始申込書!E36=\"はぴｅタイムＲ\",開始申込書!Q36,\"-\")","v":"-"}]
[null,9,{"$f":"IF(AND(開始申込書!E37=\"はぴｅタイムＲ\",開始申込書!C37<>\"\"),開始申込書!C37,\"-\")","v":"-"},null,null,{"$f":"IF(開始申込書!E37=\"はぴｅタイムＲ\",開始申込書!Q37,\"-\")","v":"-"}]
[null,10,{"$f":"IF(AND(開始申込書!E38=\"はぴｅタイムＲ\",開始申込書!C38<>\"\"),開始申込書!C38,\"-\")","v":"-"},null,null,{"$f":"IF(開始申込書!E38=\"はぴｅタイムＲ\",開始申込書!Q38,\"-\")","v":"-"}]
[null,11,{"$f":"IF(AND(開始申込書!E39=\"はぴｅタイムＲ\",開始申込書!C39<>\"\"),開始申込書!C39,\"-\")","v":"-"},null,null,{"$f":"IF(開始申込書!E39=\"はぴｅタイムＲ\",開始申込書!Q39,\"-\")","v":"-"}]
[null,12,{"$f":"IF(AND(開始申込書!E40=\"はぴｅタイムＲ\",開始申込書!C40<>\"\"),開始申込書!C40,\"-\")","v":"-"},null,null,{"$f":"IF(開始申込書!E40=\"はぴｅタイムＲ\",開始申込書!Q40,\"-\")","v":"-"}]
[null,13,{"$f":"IF(AND(開始申込書!E41=\"はぴｅタイムＲ\",開始申込書!C41<>\"\"),開始申込書!C41,\"-\")","v":"-"},null,null,{"$f":"IF(開始申込書!E41=\"はぴｅタイムＲ\",開始申込書!Q41,\"-\")","v":"-"}]
[null,14,{"$f":"IF(AND(開始申込書!E42=\"はぴｅタイムＲ\",開始申込書!C42<>\"\"),開始申込書!C42,\"-\")","v":"-"},null,null,{"$f":"IF(開始申込書!E42=\"はぴｅタイムＲ\",開始申込書!Q42,\"-\")","v":"-"}]
[null,15,{"$f":"IF(AND(開始申込書!E43=\"はぴｅタイムＲ\",開始申込書!C43<>\"\"),開始申込書!C43,\"-\")","v":"-"},null,null,{"$f":"IF(開始申込書!E43=\"はぴｅタイムＲ\",開始申込書!Q43,\"-\")","v":"-"}]
[null,16,{"$f":"IF(AND(開始申込書!E44=\"はぴｅタイムＲ\",開始申込書!C44<>\"\"),開始申込書!C44,\"-\")","v":"-"},null,null,{"$f":"IF(開始申込書!E44=\"はぴｅタイムＲ\",開始申込書!Q44,\"-\")","v":"-"}]
[null,17,{"$f":"IF(AND(開始申込書!E45=\"はぴｅタイムＲ\",開始申込書!C45<>\"\"),開始申込書!C45,\"-\")","v":"-"},null,null,{"$f":"IF(開始申込書!E45=\"はぴｅタイムＲ\",開始申込書!Q45,\"-\")","v":"-"}]
[null,18,{"$f":"IF(AND(開始申込書!E46=\"はぴｅタイムＲ\",開始申込書!C46<>\"\"),開始申込書!C46,\"-\")","v":"-"},null,null,{"$f":"IF(開始申込書!E46=\"はぴｅタイムＲ\",開始申込書!Q46,\"-\")","v":"-"}]
[null,19,{"$f":"IF(AND(開始申込書!E47=\"はぴｅタイムＲ\",開始申込書!C47<>\"\"),開始申込書!C47,\"-\")","v":"-"},null,null,{"$f":"IF(開始申込書!E47=\"はぴｅタイムＲ\",開始申込書!Q47,\"-\")","v":"-"}]
[null,20,{"$f":"IF(AND(開始申込書!E48=\"はぴｅタイムＲ\",開始申込書!C48<>\"\"),開始申込書!C48,\"-\")","v":"-"},null,null,{"$f":"IF(開始申込書!E48=\"はぴｅタイムＲ\",開始申込書!Q48,\"-\")","v":"-"}]
[null,21,{"$f":"IF(AND(開始申込書!E49=\"はぴｅタイムＲ\",開始申込書!C49<>\"\"),開始申込書!C49,\"-\")","v":"-"},null,null,{"$f":"IF(開始申込書!E49=\"はぴｅタイムＲ\",開始申込書!Q49,\"-\")","v":"-"}]
[null,22,{"$f":"IF(AND(開始申込書!E50=\"はぴｅタイムＲ\",開始申込書!C50<>\"\"),開始申込書!C50,\"-\")","v":"-"},null,null,{"$f":"IF(開始申込書!E50=\"はぴｅタイムＲ\",開始申込書!Q50,\"-\")","v":"-"}]
[null,23,{"$f":"IF(AND(開始申込書!E51=\"はぴｅタイムＲ\",開始申込書!C51<>\"\"),開始申込書!C51,\"-\")","v":"-"},null,null,{"$f":"IF(開始申込書!E51=\"はぴｅタイムＲ\",開始申込書!Q51,\"-\")","v":"-"}]
[null,24,{"$f":"IF(AND(開始申込書!E52=\"はぴｅタイムＲ\",開始申込書!C52<>\"\"),開始申込書!C52,\"-\")","v":"-"},null,null,{"$f":"IF(開始申込書!E52=\"はぴｅタイムＲ\",開始申込書!Q52,\"-\")","v":"-"}]
[null,25,{"$f":"IF(AND(開始申込書!E53=\"はぴｅタイムＲ\",開始申込書!C53<>\"\"),開始申込書!C53,\"-\")","v":"-"},null,null,{"$f":"IF(開始申込書!E53=\"はぴｅタイムＲ\",開始申込書!Q53,\"-\")","v":"-"}]
[null,26,{"$f":"IF(AND(開始申込書!E54=\"はぴｅタイムＲ\",開始申込書!C54<>\"\"),開始申込書!C54,\"-\")","v":"-"},null,null,{"$f":"IF(開始申込書!E54=\"はぴｅタイムＲ\",開始申込書!Q54,\"-\")","v":"-"}]
[null,27,{"$f":"IF(AND(開始申込書!E55=\"はぴｅタイムＲ\",開始申込書!C55<>\"\"),開始申込書!C55,\"-\")","v":"-"},null,null,{"$f":"IF(開始申込書!E55=\"はぴｅタイムＲ\",開始申込書!Q55,\"-\")","v":"-"}]
[null,28,{"$f":"IF(AND(開始申込書!E56=\"はぴｅタイムＲ\",開始申込書!C56<>\"\"),開始申込書!C56,\"-\")","v":"-"},null,null,{"$f":"IF(開始申込書!E56=\"はぴｅタイムＲ\",開始申込書!Q56,\"-\")","v":"-"}]
[null,29,{"$f":"IF(AND(開始申込書!E57=\"はぴｅタイムＲ\",開始申込書!C57<>\"\"),開始申込書!C57,\"-\")","v":"-"},null,null,{"$f":"IF(開始申込書!E57=\"はぴｅタイムＲ\",開始申込書!Q57,\"-\")","v":"-"}]
[null,30,{"$f":"IF(AND(開始申込書!E58=\"はぴｅタイムＲ\",開始申込書!C58<>\"\"),開始申込書!C58,\"-\")","v":"-"},null,null,{"$f":"IF(開始申込書!E58=\"はぴｅタイムＲ\",開始申込書!Q58,\"-\")","v":"-"}]
[null,31,{"$f":"IF(AND(開始申込書!E59=\"はぴｅタイムＲ\",開始申込書!C59<>\"\"),開始申込書!C59,\"-\")","v":"-"},null,null,{"$f":"IF(開始申込書!E59=\"はぴｅタイムＲ\",開始申込書!Q59,\"-\")","v":"-"}]
[null,32,{"$f":"IF(AND(開始申込書!E60=\"はぴｅタイムＲ\",開始申込書!C60<>\"\"),開始申込書!C60,\"-\")","v":"-"},null,null,{"$f":"IF(開始申込書!E60=\"はぴｅタイムＲ\",開始申込書!Q60,\"-\")","v":"-"}]
[null,33,{"$f":"IF(AND(開始申込書!E61=\"はぴｅタイムＲ\",開始申込書!C61<>\"\"),開始申込書!C61,\"-\")","v":"-"},null,null,{"$f":"IF(開始申込書!E61=\"はぴｅタイムＲ\",開始申込書!Q61,\"-\")","v":"-"}]
[null,34,{"$f":"IF(AND(開始申込書!E62=\"はぴｅタイムＲ\",開始申込書!C62<>\"\"),開始申込書!C62,\"-\")","v":"-"},null,null,{"$f":"IF(開始申込書!E62=\"はぴｅタイムＲ\",開始申込書!Q62,\"-\")","v":"-"}]
[null,35,{"$f":"IF(AND(開始申込書!E63=\"はぴｅタイムＲ\",開始申込書!C63<>\"\"),開始申込書!C63,\"-\")","v":"-"},null,null,{"$f":"IF(開始申込書!E63=\"はぴｅタイムＲ\",開始申込書!Q63,\"-\")","v":"-"}]
[null,36,{"$f":"IF(AND(開始申込書!E64=\"はぴｅタイムＲ\",開始申込書!C64<>\"\"),開始申込書!C64,\"-\")","v":"-"},null,null,{"$f":"IF(開始申込書!E64=\"はぴｅタイムＲ\",開始申込書!Q64,\"-\")","v":"-"}]
[null,37,{"$f":"IF(AND(開始申込書!E65=\"はぴｅタイムＲ\",開始申込書!C65<>\"\"),開始申込書!C65,\"-\")","v":"-"},null,null,{"$f":"IF(開始申込書!E65=\"はぴｅタイムＲ\",開始申込書!Q65,\"-\")","v":"-"}]
[null,38,{"$f":"IF(AND(開始申込書!E66=\"はぴｅタイムＲ\",開始申込書!C66<>\"\"),開始申込書!C66,\"-\")","v":"-"},null,null,{"$f":"IF(開始申込書!E66=\"はぴｅタイムＲ\",開始申込書!Q66,\"-\")","v":"-"}]
[null,39,{"$f":"IF(AND(開始申込書!E67=\"はぴｅタイムＲ\",開始申込書!C67<>\"\"),開始申込書!C67,\"-\")","v":"-"},null,null,{"$f":"IF(開始申込書!E67=\"はぴｅタイムＲ\",開始申込書!Q67,\"-\")","v":"-"}]
[null,40,{"$f":"IF(AND(開始申込書!E68=\"はぴｅタイムＲ\",開始申込書!C68<>\"\"),開始申込書!C68,\"-\")","v":"-"},null,null,{"$f":"IF(開始申込書!E68=\"はぴｅタイムＲ\",開始申込書!Q68,\"-\")","v":"-"}]
[null,41,{"$f":"IF(AND(開始申込書!E69=\"はぴｅタイムＲ\",開始申込書!C69<>\"\"),開始申込書!C69,\"-\")","v":"-"},null,null,{"$f":"IF(開始申込書!E69=\"はぴｅタイムＲ\",開始申込書!Q69,\"-\")","v":"-"}]
[null,42,{"$f":"IF(AND(開始申込書!E70=\"はぴｅタイムＲ\",開始申込書!C70<>\"\"),開始申込書!C70,\"-\")","v":"-"},null,null,{"$f":"IF(開始申込書!E70=\"はぴｅタイムＲ\",開始申込書!Q70,\"-\")","v":"-"}]
[null,43,{"$f":"IF(AND(開始申込書!E71=\"はぴｅタイムＲ\",開始申込書!C71<>\"\"),開始申込書!C71,\"-\")","v":"-"},null,null,{"$f":"IF(開始申込書!E71=\"はぴｅタイムＲ\",開始申込書!Q71,\"-\")","v":"-"}]
[null,44,{"$f":"IF(AND(開始申込書!E72=\"はぴｅタイムＲ\",開始申込書!C72<>\"\"),開始申込書!C72,\"-\")","v":"-"},null,null,{"$f":"IF(開始申込書!E72=\"はぴｅタイムＲ\",開始申込書!Q72,\"-\")","v":"-"}]
[null,45,{"$f":"IF(AND(開始申込書!E73=\"はぴｅタイムＲ\",開始申込書!C73<>\"\"),開始申込書!C73,\"-\")","v":"-"},null,null,{"$f":"IF(開始申込書!E73=\"はぴｅタイムＲ\",開始申込書!Q73,\"-\")","v":"-"}]
[null,46,{"$f":"IF(AND(開始申込書!E74=\"はぴｅタイムＲ\",開始申込書!C74<>\"\"),開始申込書!C74,\"-\")","v":"-"},null,null,{"$f":"IF(開始申込書!E74=\"はぴｅタイムＲ\",開始申込書!Q74,\"-\")","v":"-"}]
[null,47,{"$f":"IF(AND(開始申込書!E75=\"はぴｅタイムＲ\",開始申込書!C75<>\"\"),開始申込書!C75,\"-\")","v":"-"},null,null,{"$f":"IF(開始申込書!E75=\"はぴｅタイムＲ\",開始申込書!Q75,\"-\")","v":"-"}]
[null,48,{"$f":"IF(AND(開始申込書!E76=\"はぴｅタイムＲ\",開始申込書!C76<>\"\"),開始申込書!C76,\"-\")","v":"-"},null,null,{"$f":"IF(開始申込書!E76=\"はぴｅタイムＲ\",開始申込書!Q76,\"-\")","v":"-"}]
[null,49,{"$f":"IF(AND(開始申込書!E77=\"はぴｅタイムＲ\",開始申込書!C77<>\"\"),開始申込書!C77,\"-\")","v":"-"},null,null,{"$f":"IF(開始申込書!E77=\"はぴｅタイムＲ\",開始申込書!Q77,\"-\")","v":"-"}]
[null,50,{"$f":"IF(AND(開始申込書!E78=\"はぴｅタイムＲ\",開始申込書!C78<>\"\"),開始申込書!C78,\"-\")","v":"-"},null,null,{"$f":"IF(開始申込書!E78=\"はぴｅタイムＲ\",開始申込書!Q78,\"-\")","v":"-"}]

{"sheet":"時間帯別電灯","index":5,"n_rows":72,"n_cols":7,"rows_kept":72,"cut":false,"hidden":true,"merged":[[9,1,9,3],[16,6,16,8],[21,2,21,4],[21,5,21,7],[22,2,22,4],[22,5,22,7],[26,2,26,4],[26,5,26,7],[27,2,27,4],[27,5,27,7],[28,2,28,4],[28,5,28,7],[23,2,23,4],[23,5,23,7],[24,2,24,4],[24,5,24,7],[25,2,25,4],[25,5,25,7],[32,2,32,4],[32,5,32,7],[33,2,33,4],[33,5,33,7],[34,2,34,4],[34,5,34,7],[29,2,29,4],[29,5,29,7],[30,2,30,4],[30,5,30,7],[31,2,31,4],[31,5,31,7],[41,2,41,4],[41,5,41,7],[38,2,38,4],[38,5,38,7],[39,2,39,4],[39,5,39,7],[40,2,40,4],[40,5,40,7],[35,2,35,4],[35,5,35,7],[36,2,36,4],[36,5,36,7],[37,2,37,4],[37,5,37,7],[45,2,45,4],[45,5,45,7],[46,2,46,4],[46,5,46,7],[47,2,47,4],[47,5,47,7],[42,2,42,4],[42,5,42,7],[43,2,43,4],[43,5,43,7],[44,2,44,4],[44,5,44,7],[51,2,51,4],[51,5,51,7],[52,2,52,4],[52,5,52,7],[53,2,53,4],[53,5,53,7],[48,2,48,4],[48,5,48,7],[49,2,49,4],[49,5,49,7],[50,2,50,4],[50,5,50,7],[57,2,57,4],[57,5,57,7],[58,2,58,4],[58,5,58,7],[59,2,59,4],[59,5,59,7],[54,2,54,4],[54,5,54,7],[55,2,55,4],[55,5,55,7],[56,2,56,4],[56,5,56,7],[63,2,63,4],[63,5,63,7],[64,2,64,4],[64,5,64,7],[65,2,65,4],[65,5,65,7],[60,2,60,4],[60,5,60,7],[61,2,61,4],[61,5,61,7],[62,2,62,4],[62,5,62,7],[69,2,69,4],[69,5,69,7],[70,2,70,4],[70,5,70,7],[71,2,71,4],[71,5,71,7],[66,2,66,4],[66,5,66,7],[67,2,67,4],[67,5,67,7],[68,2,68,4],[68,5,68,7]]}
[]
[]
[]
[]
[]
[null,null,null,null,"↑ご確認後、クリックのうえ、必ずチェックを入れてください。"]
[]
[]
[null,"＜ご契約メニュー＞"]
[null,"時間帯別電灯","時間帯別電灯","時間帯別電灯"]
[]
[]
[null,"＜お申込み者（代理人）さま記入欄＞"]
[null,"「電気供給条件」および「料金表」、ご契約に関する重要事項説明書および個人情報の取扱いに同意し、"]
[null,"別紙「電気のご契約開始のお申込み」のとおり、需給契約の申込みをいたします。"]
[]
[null,null,null,null,null,"氏　名　：",{"$f":"IF(開始申込書!E15=\"\",\"\",開始申込書!E15)","v":""}]
[]
[]
[null,"＜上記の契約メニューによるご契約者（ご本人さま）＞"]
[null,"代理人さまより、下記のお客さまに対して、重要事項説明の内容をお伝えください。"]
[null,"No","お客さま番号",null,null,"お客さま名義"]
[null,1,{"$f":"IF(AND(開始申込書!E29=\"時間帯別電灯\",開始申込書!C29<>\"\"),開始申込書!C29,\"-\")","v":"-"},null,null,{"$f":"IF(開始申込書!E29=\"時間帯別電灯\",開始申込書!Q29,\"-\")","v":"-"}]
[null,2,{"$f":"IF(AND(開始申込書!E30=\"時間帯別電灯\",開始申込書!C30<>\"\"),開始申込書!C30,\"-\")","v":"-"},null,null,{"$f":"IF(開始申込書!E30=\"時間帯別電灯\",開始申込書!Q30,\"-\")","v":"-"}]
[null,3,{"$f":"IF(AND(開始申込書!E31=\"時間帯別電灯\",開始申込書!C31<>\"\"),開始申込書!C31,\"-\")","v":"-"},null,null,{"$f":"IF(開始申込書!E31=\"時間帯別電灯\",開始申込書!Q31,\"-\")","v":"-"}]
[null,4,{"$f":"IF(AND(開始申込書!E32=\"時間帯別電灯\",開始申込書!C32<>\"\"),開始申込書!C32,\"-\")","v":"-"},null,null,{"$f":"IF(開始申込書!E32=\"時間帯別電灯\",開始申込書!Q32,\"-\")","v":"-"}]
[null,5,{"$f":"IF(AND(開始申込書!E33=\"時間帯別電灯\",開始申込書!C33<>\"\"),開始申込書!C33,\"-\")","v":"-"},null,null,{"$f":"IF(開始申込書!E33=\"時間帯別電灯\",開始申込書!Q33,\"-\")","v":"-"}]
[null,6,{"$f":"IF(AND(開始申込書!E34=\"時間帯別電灯\",開始申込書!C34<>\"\"),開始申込書!C34,\"-\")","v":"-"},null,null,{"$f":"IF(開始申込書!E34=\"時間帯別電灯\",開始申込書!Q34,\"-\")","v":"-"}]
[null,7,{"$f":"IF(AND(開始申込書!E35=\"時間帯別電灯\",開始申込書!C35<>\"\"),開始申込書!C35,\"-\")","v":"-"},null,null,{"$f":"IF(開始申込書!E35=\"時間帯別電灯\",開始申込書!Q35,\"-\")","v":"-"}]
[null,8,{"$f":"IF(AND(開始申込書!E36=\"時間帯別電灯\",開始申込書!C36<>\"\"),開始申込書!C36,\"-\")","v":"-"},null,null,{"$f":"IF(開始申込書!E36=\"時間帯別電灯\",開始申込書!Q36,\"-\")","v":"-"}]
[null,9,{"$f":"IF(AND(開始申込書!E37=\"時間帯別電灯\",開始申込書!C37<>\"\"),開始申込書!C37,\"-\")","v":"-"},null,null,{"$f":"IF(開始申込書!E37=\"時間帯別電灯\",開始申込書!Q37,\"-\")","v":"-"}]
[null,10,{"$f":"IF(AND(開始申込書!E38=\"時間帯別電灯\",開始申込書!C38<>\"\"),開始申込書!C38,\"-\")","v":"-"},null,null,{"$f":"IF(開始申込書!E38=\"時間帯別電灯\",開始申込書!Q38,\"-\")","v":"-"}]
[null,11,{"$f":"IF(AND(開始申込書!E39=\"時間帯別電灯\",開始申込書!C39<>\"\"),開始申込書!C39,\"-\")","v":"-"},null,null,{"$f":"IF(開始申込書!E39=\"時間帯別電灯\",開始申込書!Q39,\"-\")","v":"-"}]
[null,12,{"$f":"IF(AND(開始申込書!E40=\"時間帯別電灯\",開始申込書!C40<>\"\"),開始申込書!C40,\"-\")","v":"-"},null,null,{"$f":"IF(開始申込書!E40=\"時間帯別電灯\",開始申込書!Q40,\"-\")","v":"-"}]
[null,13,{"$f":"IF(AND(開始申込書!E41=\"時間帯別電灯\",開始申込書!C41<>\"\"),開始申込書!C41,\"-\")","v":"-"},null,null,{"$f":"IF(開始申込書!E41=\"時間帯別電灯\",開始申込書!Q41,\"-\")","v":"-"}]
[null,14,{"$f":"IF(AND(開始申込書!E42=\"時間帯別電灯\",開始申込書!C42<>\"\"),開始申込書!C42,\"-\")","v":"-"},null,null,{"$f":"IF(開始申込書!E42=\"時間帯別電灯\",開始申込書!Q42,\"-\")","v":"-"}]
[null,15,{"$f":"IF(AND(開始申込書!E43=\"時間帯別電灯\",開始申込書!C43<>\"\"),開始申込書!C43,\"-\")","v":"-"},null,null,{"$f":"IF(開始申込書!E43=\"時間帯別電灯\",開始申込書!Q43,\"-\")","v":"-"}]
[null,16,{"$f":"IF(AND(開始申込書!E44=\"時間帯別電灯\",開始申込書!C44<>\"\"),開始申込書!C44,\"-\")","v":"-"},null,null,{"$f":"IF(開始申込書!E44=\"時間帯別電灯\",開始申込書!Q44,\"-\")","v":"-"}]
[null,17,{"$f":"IF(AND(開始申込書!E45=\"時間帯別電灯\",開始申込書!C45<>\"\"),開始申込書!C45,\"-\")","v":"-"},null,null,{"$f":"IF(開始申込書!E45=\"時間帯別電灯\",開始申込書!Q45,\"-\")","v":"-"}]
[null,18,{"$f":"IF(AND(開始申込書!E46=\"時間帯別電灯\",開始申込書!C46<>\"\"),開始申込書!C46,\"-\")","v":"-"},null,null,{"$f":"IF(開始申込書!E46=\"時間帯別電灯\",開始申込書!Q46,\"-\")","v":"-"}]
[null,19,{"$f":"IF(AND(開始申込書!E47=\"時間帯別電灯\",開始申込書!C47<>\"\"),開始申込書!C47,\"-\")","v":"-"},null,null,{"$f":"IF(開始申込書!E47=\"時間帯別電灯\",開始申込書!Q47,\"-\")","v":"-"}]
[null,20,{"$f":"IF(AND(開始申込書!E48=\"時間帯別電灯\",開始申込書!C48<>\"\"),開始申込書!C48,\"-\")","v":"-"},null,null,{"$f":"IF(開始申込書!E48=\"時間帯別電灯\",開始申込書!Q48,\"-\")","v":"-"}]
[null,21,{"$f":"IF(AND(開始申込書!E49=\"時間帯別電灯\",開始申込書!C49<>\"\"),開始申込書!C49,\"-\")","v":"-"},null,null,{"$f":"IF(開始申込書!E49=\"時間帯別電灯\",開始申込書!Q49,\"-\")","v":"-"}]
[null,22,{"$f":"IF(AND(開始申込書!E50=\"時間帯別電灯\",開始申込書!C50<>\"\"),開始申込書!C50,\"-\")","v":"-"},null,null,{"$f":"IF(開始申込書!E50=\"時間帯別電灯\",開始申込書!Q50,\"-\")","v":"-"}]
[null,23,{"$f":"IF(AND(開始申込書!E51=\"時間帯別電灯\",開始申込書!C51<>\"\"),開始申込書!C51,\"-\")","v":"-"},null,null,{"$f":"IF(開始申込書!E51=\"時間帯別電灯\",開始申込書!Q51,\"-\")","v":"-"}]
[null,24,{"$f":"IF(AND(開始申込書!E52=\"時間帯別電灯\",開始申込書!C52<>\"\"),開始申込書!C52,\"-\")","v":"-"},null,null,{"$f":"IF(開始申込書!E52=\"時間帯別電灯\",開始申込書!Q52,\"-\")","v":"-"}]
[null,25,{"$f":"IF(AND(開始申込書!E53=\"時間帯別電灯\",開始申込書!C53<>\"\"),開始申込書!C53,\"-\")","v":"-"},null,null,{"$f":"IF(開始申込書!E53=\"時間帯別電灯\",開始申込書!Q53,\"-\")","v":"-"}]
[null,26,{"$f":"IF(AND(開始申込書!E54=\"時間帯別電灯\",開始申込書!C54<>\"\"),開始申込書!C54,\"-\")","v":"-"},null,null,{"$f":"IF(開始申込書!E54=\"時間帯別電灯\",開始申込書!Q54,\"-\")","v":"-"}]
[null,27,{"$f":"IF(AND(開始申込書!E55=\"時間帯別電灯\",開始申込書!C55<>\"\"),開始申込書!C55,\"-\")","v":"-"},null,null,{"$f":"IF(開始申込書!E55=\"時間帯別電灯\",開始申込書!Q55,\"-\")","v":"-"}]
[null,28,{"$f":"IF(AND(開始申込書!E56=\"時間帯別電灯\",開始申込書!C56<>\"\"),開始申込書!C56,\"-\")","v":"-"},null,null,{"$f":"IF(開始申込書!E56=\"時間帯別電灯\",開始申込書!Q56,\"-\")","v":"-"}]
[null,29,{"$f":"IF(AND(開始申込書!E57=\"時間帯別電灯\",開始申込書!C57<>\"\"),開始申込書!C57,\"-\")","v":"-"},null,null,{"$f":"IF(開始申込書!E57=\"時間帯別電灯\",開始申込書!Q57,\"-\")","v":"-"}]
[null,30,{"$f":"IF(AND(開始申込書!E58=\"時間帯別電灯\",開始申込書!C58<>\"\"),開始申込書!C58,\"-\")","v":"-"},null,null,{"$f":"IF(開始申込書!E58=\"時間帯別電灯\",開始申込書!Q58,\"-\")","v":"-"}]
[null,31,{"$f":"IF(AND(開始申込書!E59=\"時間帯別電灯\",開始申込書!C59<>\"\"),開始申込書!C59,\"-\")","v":"-"},null,null,{"$f":"IF(開始申込書!E59=\"時間帯別電灯\",開始申込書!Q59,\"-\")","v":"-"}]
[null,32,{"$f":"IF(AND(開始申込書!E60=\"時間帯別電灯\",開始申込書!C60<>\"\"),開始申込書!C60,\"-\")","v":"-"},null,null,{"$f":"IF(開始申込書!E60=\"時間帯別電灯\",開始申込書!Q60,\"-\")","v":"-"}]
[null,33,{"$f":"IF(AND(開始申込書!E61=\"時間帯別電灯\",開始申込書!C61<>\"\"),開始申込書!C61,\"-\")","v":"-"},null,null,{"$f":"IF(開始申込書!E61=\"時間帯別電灯\",開始申込書!Q61,\"-\")","v":"-"}]
[null,34,{"$f":"IF(AND(開始申込書!E62=\"時間帯別電灯\",開始申込書!C62<>\"\"),開始申込書!C62,\"-\")","v":"-"},null,null,{"$f":"IF(開始申込書!E62=\"時間帯別電灯\",開始申込書!Q62,\"-\")","v":"-"}]
[null,35,{"$f":"IF(AND(開始申込書!E63=\"時間帯別電灯\",開始申込書!C63<>\"\"),開始申込書!C63,\"-\")","v":"-"},null,null,{"$f":"IF(開始申込書!E63=\"時間帯別電灯\",開始申込書!Q63,\"-\")","v":"-"}]
[null,36,{"$f":"IF(AND(開始申込書!E64=\"時間帯別電灯\",開始申込書!C64<>\"\"),開始申込書!C64,\"-\")","v":"-"},null,null,{"$f":"IF(開始申込書!E64=\"時間帯別電灯\",開始申込書!Q64,\"-\")","v":"-"}]
[null,37,{"$f":"IF(AND(開始申込書!E65=\"時間帯別電灯\",開始申込書!C65<>\"\"),開始申込書!C65,\"-\")","v":"-"},null,null,{"$f":"IF(開始申込書!E65=\"時間帯別電灯\",開始申込書!Q65,\"-\")","v":"-"}]
[null,38,{"$f":"IF(AND(開始申込書!E66=\"時間帯別電灯\",開始申込書!C66<>\"\"),開始申込書!C66,\"-\")","v":"-"},null,null,{"$f":"IF(開始申込書!E66=\"時間帯別電灯\",開始申込書!Q66,\"-\")","v":"-"}]
[null,39,{"$f":"IF(AND(開始申込書!E67=\"時間帯別電灯\",開始申込書!C67<>\"\"),開始申込書!C67,\"-\")","v":"-"},null,null,{"$f":"IF(開始申込書!E67=\"時間帯別電灯\",開始申込書!Q67,\"-\")","v":"-"}]
[null,40,{"$f":"IF(AND(開始申込書!E68=\"時間帯別電灯\",開始申込書!C68<>\"\"),開始申込書!C68,\"-\")","v":"-"},null,null,{"$f":"IF(開始申込書!E68=\"時間帯別電灯\",開始申込書!Q68,\"-\")","v":"-"}]
[null,41,{"$f":"IF(AND(開始申込書!E69=\"時間帯別電灯\",開始申込書!C69<>\"\"),開始申込書!C69,\"-\")","v":"-"},null,null,{"$f":"IF(開始申込書!E69=\"時間帯別電灯\",開始申込書!Q69,\"-\")","v":"-"}]
[null,42,{"$f":"IF(AND(開始申込書!E70=\"時間帯別電灯\",開始申込書!C70<>\"\"),開始申込書!C70,\"-\")","v":"-"},null,null,{"$f":"IF(開始申込書!E70=\"時間帯別電灯\",開始申込書!Q70,\"-\")","v":"-"}]
[null,43,{"$f":"IF(AND(開始申込書!E71=\"時間帯別電灯\",開始申込書!C71<>\"\"),開始申込書!C71,\"-\")","v":"-"},null,null,{"$f":"IF(開始申込書!E71=\"時間帯別電灯\",開始申込書!Q71,\"-\")","v":"-"}]
[null,44,{"$f":"IF(AND(開始申込書!E72=\"時間帯別電灯\",開始申込書!C72<>\"\"),開始申込書!C72,\"-\")","v":"-"},null,null,{"$f":"IF(開始申込書!E72=\"時間帯別電灯\",開始申込書!Q72,\"-\")","v":"-"}]
[null,45,{"$f":"IF(AND(開始申込書!E73=\"時間帯別電灯\",開始申込書!C73<>\"\"),開始申込書!C73,\"-\")","v":"-"},null,null,{"$f":"IF(開始申込書!E73=\"時間帯別電灯\",開始申込書!Q73,\"-\")","v":"-"}]
[null,46,{"$f":"IF(AND(開始申込書!E74=\"時間帯別電灯\",開始申込書!C74<>\"\"),開始申込書!C74,\"-\")","v":"-"},null,null,{"$f":"IF(開始申込書!E74=\"時間帯別電灯\",開始申込書!Q74,\"-\")","v":"-"}]
[null,47,{"$f":"IF(AND(開始申込書!E75=\"時間帯別電灯\",開始申込書!C75<>\"\"),開始申込書!C75,\"-\")","v":"-"},null,null,{"$f":"IF(開始申込書!E75=\"時間帯別電灯\",開始申込書!Q75,\"-\")","v":"-"}]
[null,48,{"$f":"IF(AND(開始申込書!E76=\"時間帯別電灯\",開始申込書!C76<>\"\"),開始申込書!C76,\"-\")","v":"-"},null,null,{"$f":"IF(開始申込書!E76=\"時間帯別電灯\",開始申込書!Q76,\"-\")","v":"-"}]
[null,49,{"$f":"IF(AND(開始申込書!E77=\"時間帯別電灯\",開始申込書!C77<>\"\"),開始申込書!C77,\"-\")","v":"-"},null,null,{"$f":"IF(開始申込書!E77=\"時間帯別電灯\",開始申込書!Q77,\"-\")","v":"-"}]
[null,50,{"$f":"IF(AND(開始申込書!E78=\"時間帯別電灯\",開始申込書!C78<>\"\"),開始申込書!C78,\"-\")","v":"-"},null,null,{"$f":"IF(開始申込書!E78=\"時間帯別電灯\",開始申込書!Q78,\"-\")","v":"-"}]

{"sheet":"ｅおとくプラン","index":6,"n_rows":72,"n_cols":7,"rows_kept":72,"cut":false,"hidden":true,"merged":[[9,1,9,3],[16,6,16,8],[21,2,21,4],[21,5,21,7],[22,2,22,4],[22,5,22,7],[26,2,26,4],[26,5,26,7],[27,2,27,4],[27,5,27,7],[28,2,28,4],[28,5,28,7],[23,2,23,4],[23,5,23,7],[24,2,24,4],[24,5,24,7],[25,2,25,4],[25,5,25,7],[32,2,32,4],[32,5,32,7],[33,2,33,4],[33,5,33,7],[34,2,34,4],[34,5,34,7],[29,2,29,4],[29,5,29,7],[30,2,30,4],[30,5,30,7],[31,2,31,4],[31,5,31,7],[41,2,41,4],[41,5,41,7],[38,2,38,4],[38,5,38,7],[39,2,39,4],[39,5,39,7],[40,2,40,4],[40,5,40,7],[35,2,35,4],[35,5,35,7],[36,2,36,4],[36,5,36,7],[37,2,37,4],[37,5,37,7],[45,2,45,4],[45,5,45,7],[46,2,46,4],[46,5,46,7],[47,2,47,4],[47,5,47,7],[42,2,42,4],[42,5,42,7],[43,2,43,4],[43,5,43,7],[44,2,44,4],[44,5,44,7],[51,2,51,4],[51,5,51,7],[52,2,52,4],[52,5,52,7],[53,2,53,4],[53,5,53,7],[48,2,48,4],[48,5,48,7],[49,2,49,4],[49,5,49,7],[50,2,50,4],[50,5,50,7],[57,2,57,4],[57,5,57,7],[58,2,58,4],[58,5,58,7],[59,2,59,4],[59,5,59,7],[54,2,54,4],[54,5,54,7],[55,2,55,4],[55,5,55,7],[56,2,56,4],[56,5,56,7],[63,2,63,4],[63,5,63,7],[64,2,64,4],[64,5,64,7],[65,2,65,4],[65,5,65,7],[60,2,60,4],[60,5,60,7],[61,2,61,4],[61,5,61,7],[62,2,62,4],[62,5,62,7],[69,2,69,4],[69,5,69,7],[70,2,70,4],[70,5,70,7],[71,2,71,4],[71,5,71,7],[66,2,66,4],[66,5,66,7],[67,2,67,4],[67,5,67,7],[68,2,68,4],[68,5,68,7]]}
[]
[]
[]
[]
[]
[null,null,null,null,"↑ご確認後、クリックのうえ、必ずチェックを入れてください。"]
[]
[]
[null,"＜ご契約メニュー＞"]
[null,"ｅおとくプラン","ｅおとくプラン","ｅおとくプラン"]
[]
[]
[null,"＜お申込み者（代理人）さま記入欄＞"]
[null,"「電気供給条件」および「料金表」、ご契約に関する重要事項説明書および個人情報の取扱いに同意し、"]
[null,"別紙「電気のご契約開始のお申込み」のとおり、需給契約の申込みをいたします。"]
[]
[null,null,null,null,null,"氏　名　：",{"$f":"IF(開始申込書!E15=\"\",\"\",開始申込書!E15)","v":""}]
[]
[]
[null,"＜上記の契約メニューによるご契約者（ご本人さま）＞"]
[null,"代理人さまより、下記のお客さまに対して、重要事項説明の内容をお伝えください。"]
[null,"No","お客さま番号",null,null,"お客さま名義"]
[null,1,{"$f":"IF(AND(開始申込書!E29=\"ｅおとくプラン\",開始申込書!C29<>\"\"),開始申込書!C29,\"-\")","v":"-"},null,null,{"$f":"IF(開始申込書!E29=\"ｅおとくプラン\",開始申込書!Q29,\"-\")","v":"-"}]
[null,2,{"$f":"IF(AND(開始申込書!E30=\"ｅおとくプラン\",開始申込書!C30<>\"\"),開始申込書!C30,\"-\")","v":"-"},null,null,{"$f":"IF(開始申込書!E30=\"ｅおとくプラン\",開始申込書!Q30,\"-\")","v":"-"}]
[null,3,{"$f":"IF(AND(開始申込書!E31=\"ｅおとくプラン\",開始申込書!C31<>\"\"),開始申込書!C31,\"-\")","v":"-"},null,null,{"$f":"IF(開始申込書!E31=\"ｅおとくプラン\",開始申込書!Q31,\"-\")","v":"-"}]
[null,4,{"$f":"IF(AND(開始申込書!E32=\"ｅおとくプラン\",開始申込書!C32<>\"\"),開始申込書!C32,\"-\")","v":"-"},null,null,{"$f":"IF(開始申込書!E32=\"ｅおとくプラン\",開始申込書!Q32,\"-\")","v":"-"}]
[null,5,{"$f":"IF(AND(開始申込書!E33=\"ｅおとくプラン\",開始申込書!C33<>\"\"),開始申込書!C33,\"-\")","v":"-"},null,null,{"$f":"IF(開始申込書!E33=\"ｅおとくプラン\",開始申込書!Q33,\"-\")","v":"-"}]
[null,6,{"$f":"IF(AND(開始申込書!E34=\"ｅおとくプラン\",開始申込書!C34<>\"\"),開始申込書!C34,\"-\")","v":"-"},null,null,{"$f":"IF(開始申込書!E34=\"ｅおとくプラン\",開始申込書!Q34,\"-\")","v":"-"}]
[null,7,{"$f":"IF(AND(開始申込書!E35=\"ｅおとくプラン\",開始申込書!C35<>\"\"),開始申込書!C35,\"-\")","v":"-"},null,null,{"$f":"IF(開始申込書!E35=\"ｅおとくプラン\",開始申込書!Q35,\"-\")","v":"-"}]
[null,8,{"$f":"IF(AND(開始申込書!E36=\"ｅおとくプラン\",開始申込書!C36<>\"\"),開始申込書!C36,\"-\")","v":"-"},null,null,{"$f":"IF(開始申込書!E36=\"ｅおとくプラン\",開始申込書!Q36,\"-\")","v":"-"}]
[null,9,{"$f":"IF(AND(開始申込書!E37=\"ｅおとくプラン\",開始申込書!C37<>\"\"),開始申込書!C37,\"-\")","v":"-"},null,null,{"$f":"IF(開始申込書!E37=\"ｅおとくプラン\",開始申込書!Q37,\"-\")","v":"-"}]
[null,10,{"$f":"IF(AND(開始申込書!E38=\"ｅおとくプラン\",開始申込書!C38<>\"\"),開始申込書!C38,\"-\")","v":"-"},null,null,{"$f":"IF(開始申込書!E38=\"ｅおとくプラン\",開始申込書!Q38,\"-\")","v":"-"}]
[null,11,{"$f":"IF(AND(開始申込書!E39=\"ｅおとくプラン\",開始申込書!C39<>\"\"),開始申込書!C39,\"-\")","v":"-"},null,null,{"$f":"IF(開始申込書!E39=\"ｅおとくプラン\",開始申込書!Q39,\"-\")","v":"-"}]
[null,12,{"$f":"IF(AND(開始申込書!E40=\"ｅおとくプラン\",開始申込書!C40<>\"\"),開始申込書!C40,\"-\")","v":"-"},null,null,{"$f":"IF(開始申込書!E40=\"ｅおとくプラン\",開始申込書!Q40,\"-\")","v":"-"}]
[null,13,{"$f":"IF(AND(開始申込書!E41=\"ｅおとくプラン\",開始申込書!C41<>\"\"),開始申込書!C41,\"-\")","v":"-"},null,null,{"$f":"IF(開始申込書!E41=\"ｅおとくプラン\",開始申込書!Q41,\"-\")","v":"-"}]
[null,14,{"$f":"IF(AND(開始申込書!E42=\"ｅおとくプラン\",開始申込書!C42<>\"\"),開始申込書!C42,\"-\")","v":"-"},null,null,{"$f":"IF(開始申込書!E42=\"ｅおとくプラン\",開始申込書!Q42,\"-\")","v":"-"}]
[null,15,{"$f":"IF(AND(開始申込書!E43=\"ｅおとくプラン\",開始申込書!C43<>\"\"),開始申込書!C43,\"-\")","v":"-"},null,null,{"$f":"IF(開始申込書!E43=\"ｅおとくプラン\",開始申込書!Q43,\"-\")","v":"-"}]
[null,16,{"$f":"IF(AND(開始申込書!E44=\"ｅおとくプラン\",開始申込書!C44<>\"\"),開始申込書!C44,\"-\")","v":"-"},null,null,{"$f":"IF(開始申込書!E44=\"ｅおとくプラン\",開始申込書!Q44,\"-\")","v":"-"}]
[null,17,{"$f":"IF(AND(開始申込書!E45=\"ｅおとくプラン\",開始申込書!C45<>\"\"),開始申込書!C45,\"-\")","v":"-"},null,null,{"$f":"IF(開始申込書!E45=\"ｅおとくプラン\",開始申込書!Q45,\"-\")","v":"-"}]
[null,18,{"$f":"IF(AND(開始申込書!E46=\"ｅおとくプラン\",開始申込書!C46<>\"\"),開始申込書!C46,\"-\")","v":"-"},null,null,{"$f":"IF(開始申込書!E46=\"ｅおとくプラン\",開始申込書!Q46,\"-\")","v":"-"}]
[null,19,{"$f":"IF(AND(開始申込書!E47=\"ｅおとくプラン\",開始申込書!C47<>\"\"),開始申込書!C47,\"-\")","v":"-"},null,null,{"$f":"IF(開始申込書!E47=\"ｅおとくプラン\",開始申込書!Q47,\"-\")","v":"-"}]
[null,20,{"$f":"IF(AND(開始申込書!E48=\"ｅおとくプラン\",開始申込書!C48<>\"\"),開始申込書!C48,\"-\")","v":"-"},null,null,{"$f":"IF(開始申込書!E48=\"ｅおとくプラン\",開始申込書!Q48,\"-\")","v":"-"}]
[null,21,{"$f":"IF(AND(開始申込書!E49=\"ｅおとくプラン\",開始申込書!C49<>\"\"),開始申込書!C49,\"-\")","v":"-"},null,null,{"$f":"IF(開始申込書!E49=\"ｅおとくプラン\",開始申込書!Q49,\"-\")","v":"-"}]
[null,22,{"$f":"IF(AND(開始申込書!E50=\"ｅおとくプラン\",開始申込書!C50<>\"\"),開始申込書!C50,\"-\")","v":"-"},null,null,{"$f":"IF(開始申込書!E50=\"ｅおとくプラン\",開始申込書!Q50,\"-\")","v":"-"}]
[null,23,{"$f":"IF(AND(開始申込書!E51=\"ｅおとくプラン\",開始申込書!C51<>\"\"),開始申込書!C51,\"-\")","v":"-"},null,null,{"$f":"IF(開始申込書!E51=\"ｅおとくプラン\",開始申込書!Q51,\"-\")","v":"-"}]
[null,24,{"$f":"IF(AND(開始申込書!E52=\"ｅおとくプラン\",開始申込書!C52<>\"\"),開始申込書!C52,\"-\")","v":"-"},null,null,{"$f":"IF(開始申込書!E52=\"ｅおとくプラン\",開始申込書!Q52,\"-\")","v":"-"}]
[null,25,{"$f":"IF(AND(開始申込書!E53=\"ｅおとくプラン\",開始申込書!C53<>\"\"),開始申込書!C53,\"-\")","v":"-"},null,null,{"$f":"IF(開始申込書!E53=\"ｅおとくプラン\",開始申込書!Q53,\"-\")","v":"-"}]
[null,26,{"$f":"IF(AND(開始申込書!E54=\"ｅおとくプラン\",開始申込書!C54<>\"\"),開始申込書!C54,\"-\")","v":"-"},null,null,{"$f":"IF(開始申込書!E54=\"ｅおとくプラン\",開始申込書!Q54,\"-\")","v":"-"}]
[null,27,{"$f":"IF(AND(開始申込書!E55=\"ｅおとくプラン\",開始申込書!C55<>\"\"),開始申込書!C55,\"-\")","v":"-"},null,null,{"$f":"IF(開始申込書!E55=\"ｅおとくプラン\",開始申込書!Q55,\"-\")","v":"-"}]
[null,28,{"$f":"IF(AND(開始申込書!E56=\"ｅおとくプラン\",開始申込書!C56<>\"\"),開始申込書!C56,\"-\")","v":"-"},null,null,{"$f":"IF(開始申込書!E56=\"ｅおとくプラン\",開始申込書!Q56,\"-\")","v":"-"}]
[null,29,{"$f":"IF(AND(開始申込書!E57=\"ｅおとくプラン\",開始申込書!C57<>\"\"),開始申込書!C57,\"-\")","v":"-"},null,null,{"$f":"IF(開始申込書!E57=\"ｅおとくプラン\",開始申込書!Q57,\"-\")","v":"-"}]
[null,30,{"$f":"IF(AND(開始申込書!E58=\"ｅおとくプラン\",開始申込書!C58<>\"\"),開始申込書!C58,\"-\")","v":"-"},null,null,{"$f":"IF(開始申込書!E58=\"ｅおとくプラン\",開始申込書!Q58,\"-\")","v":"-"}]
[null,31,{"$f":"IF(AND(開始申込書!E59=\"ｅおとくプラン\",開始申込書!C59<>\"\"),開始申込書!C59,\"-\")","v":"-"},null,null,{"$f":"IF(開始申込書!E59=\"ｅおとくプラン\",開始申込書!Q59,\"-\")","v":"-"}]
[null,32,{"$f":"IF(AND(開始申込書!E60=\"ｅおとくプラン\",開始申込書!C60<>\"\"),開始申込書!C60,\"-\")","v":"-"},null,null,{"$f":"IF(開始申込書!E60=\"ｅおとくプラン\",開始申込書!Q60,\"-\")","v":"-"}]
[null,33,{"$f":"IF(AND(開始申込書!E61=\"ｅおとくプラン\",開始申込書!C61<>\"\"),開始申込書!C61,\"-\")","v":"-"},null,null,{"$f":"IF(開始申込書!E61=\"ｅおとくプラン\",開始申込書!Q61,\"-\")","v":"-"}]
[null,34,{"$f":"IF(AND(開始申込書!E62=\"ｅおとくプラン\",開始申込書!C62<>\"\"),開始申込書!C62,\"-\")","v":"-"},null,null,{"$f":"IF(開始申込書!E62=\"ｅおとくプラン\",開始申込書!Q62,\"-\")","v":"-"}]
[null,35,{"$f":"IF(AND(開始申込書!E63=\"ｅおとくプラン\",開始申込書!C63<>\"\"),開始申込書!C63,\"-\")","v":"-"},null,null,{"$f":"IF(開始申込書!E63=\"ｅおとくプラン\",開始申込書!Q63,\"-\")","v":"-"}]
[null,36,{"$f":"IF(AND(開始申込書!E64=\"ｅおとくプラン\",開始申込書!C64<>\"\"),開始申込書!C64,\"-\")","v":"-"},null,null,{"$f":"IF(開始申込書!E64=\"ｅおとくプラン\",開始申込書!Q64,\"-\")","v":"-"}]
[null,37,{"$f":"IF(AND(開始申込書!E65=\"ｅおとくプラン\",開始申込書!C65<>\"\"),開始申込書!C65,\"-\")","v":"-"},null,null,{"$f":"IF(開始申込書!E65=\"ｅおとくプラン\",開始申込書!Q65,\"-\")","v":"-"}]
[null,38,{"$f":"IF(AND(開始申込書!E66=\"ｅおとくプラン\",開始申込書!C66<>\"\"),開始申込書!C66,\"-\")","v":"-"},null,null,{"$f":"IF(開始申込書!E66=\"ｅおとくプラン\",開始申込書!Q66,\"-\")","v":"-"}]
[null,39,{"$f":"IF(AND(開始申込書!E67=\"ｅおとくプラン\",開始申込書!C67<>\"\"),開始申込書!C67,\"-\")","v":"-"},null,null,{"$f":"IF(開始申込書!E67=\"ｅおとくプラン\",開始申込書!Q67,\"-\")","v":"-"}]
[null,40,{"$f":"IF(AND(開始申込書!E68=\"ｅおとくプラン\",開始申込書!C68<>\"\"),開始申込書!C68,\"-\")","v":"-"},null,null,{"$f":"IF(開始申込書!E68=\"ｅおとくプラン\",開始申込書!Q68,\"-\")","v":"-"}]
[null,41,{"$f":"IF(AND(開始申込書!E69=\"ｅおとくプラン\",開始申込書!C69<>\"\"),開始申込書!C69,\"-\")","v":"-"},null,null,{"$f":"IF(開始申込書!E69=\"ｅおとくプラン\",開始申込書!Q69,\"-\")","v":"-"}]
[null,42,{"$f":"IF(AND(開始申込書!E70=\"ｅおとくプラン\",開始申込書!C70<>\"\"),開始申込書!C70,\"-\")","v":"-"},null,null,{"$f":"IF(開始申込書!E70=\"ｅおとくプラン\",開始申込書!Q70,\"-\")","v":"-"}]
[null,43,{"$f":"IF(AND(開始申込書!E71=\"ｅおとくプラン\",開始申込書!C71<>\"\"),開始申込書!C71,\"-\")","v":"-"},null,null,{"$f":"IF(開始申込書!E71=\"ｅおとくプラン\",開始申込書!Q71,\"-\")","v":"-"}]
[null,44,{"$f":"IF(AND(開始申込書!E72=\"ｅおとくプラン\",開始申込書!C72<>\"\"),開始申込書!C72,\"-\")","v":"-"},null,null,{"$f":"IF(開始申込書!E72=\"ｅおとくプラン\",開始申込書!Q72,\"-\")","v":"-"}]
[null,45,{"$f":"IF(AND(開始申込書!E73=\"ｅおとくプラン\",開始申込書!C73<>\"\"),開始申込書!C73,\"-\")","v":"-"},null,null,{"$f":"IF(開始申込書!E73=\"ｅおとくプラン\",開始申込書!Q73,\"-\")","v":"-"}]
[null,46,{"$f":"IF(AND(開始申込書!E74=\"ｅおとくプラン\",開始申込書!C74<>\"\"),開始申込書!C74,\"-\")","v":"-"},null,null,{"$f":"IF(開始申込書!E74=\"ｅおとくプラン\",開始申込書!Q74,\"-\")","v":"-"}]
[null,47,{"$f":"IF(AND(開始申込書!E75=\"ｅおとくプラン\",開始申込書!C75<>\"\"),開始申込書!C75,\"-\")","v":"-"},null,null,{"$f":"IF(開始申込書!E75=\"ｅおとくプラン\",開始申込書!Q75,\"-\")","v":"-"}]
[null,48,{"$f":"IF(AND(開始申込書!E76=\"ｅおとくプラン\",開始申込書!C76<>\"\"),開始申込書!C76,\"-\")","v":"-"},null,null,{"$f":"IF(開始申込書!E76=\"ｅおとくプラン\",開始申込書!Q76,\"-\")","v":"-"}]
[null,49,{"$f":"IF(AND(開始申込書!E77=\"ｅおとくプラン\",開始申込書!C77<>\"\"),開始申込書!C77,\"-\")","v":"-"},null,null,{"$f":"IF(開始申込書!E77=\"ｅおとくプラン\",開始申込書!Q77,\"-\")","v":"-"}]
[null,50,{"$f":"IF(AND(開始申込書!E78=\"ｅおとくプラン\",開始申込書!C78<>\"\"),開始申込書!C78,\"-\")","v":"-"},null,null,{"$f":"IF(開始申込書!E78=\"ｅおとくプラン\",開始申込書!Q78,\"-\")","v":"-"}]